BEGIN:VCALENDAR
VERSION:2.0
PRODID:-//Fain Signature Group - ECPv6.15.16//NONSGML v1.0//EN
CALSCALE:GREGORIAN
METHOD:PUBLISH
X-WR-CALNAME:Fain Signature Group
X-ORIGINAL-URL:https://fainsignaturegroup.com
X-WR-CALDESC:Events for Fain Signature Group
REFRESH-INTERVAL;VALUE=DURATION:PT1H
X-Robots-Tag:noindex
X-PUBLISHED-TTL:PT1H
BEGIN:VTIMEZONE
TZID:America/Phoenix
BEGIN:STANDARD
TZOFFSETFROM:-0700
TZOFFSETTO:-0700
TZNAME:MST
DTSTART:20230101T000000
END:STANDARD
END:VTIMEZONE
BEGIN:VEVENT
DTSTART;TZID=America/Phoenix:20240713T090000
DTEND;TZID=America/Phoenix:20240713T090000
DTSTAMP:20260420T164419
CREATED:20240523T203354Z
LAST-MODIFIED:20240523T203354Z
UID:7905-1720861200-1720861200@fainsignaturegroup.com
SUMMARY:Yoga on the Green
DESCRIPTION:
URL:https://fainsignaturegroup.com/event/yoga-on-the-green/
LOCATION:Town Center Turf Park\, 2980 N Park Ave\, Prescott Valley\, AZ\, 86314\, United States
CATEGORIES:Prescott Valley Town Center
ORGANIZER;CN="Pickles Lea Yoga":MAILTO:Candacelea2016@gmail.com
END:VEVENT
END:VCALENDAR