BEGIN:VCALENDAR
VERSION:2.0
PRODID:-//Fain Signature Group - ECPv6.15.16//NONSGML v1.0//EN
CALSCALE:GREGORIAN
METHOD:PUBLISH
X-ORIGINAL-URL:https://fainsignaturegroup.com
X-WR-CALDESC:Events for Fain Signature Group
REFRESH-INTERVAL;VALUE=DURATION:PT1H
X-Robots-Tag:noindex
X-PUBLISHED-TTL:PT1H
BEGIN:VTIMEZONE
TZID:America/Phoenix
BEGIN:STANDARD
TZOFFSETFROM:-0700
TZOFFSETTO:-0700
TZNAME:MST
DTSTART:20230101T000000
END:STANDARD
END:VTIMEZONE
BEGIN:VEVENT
DTSTART;TZID=America/Phoenix:20241113T173000
DTEND;TZID=America/Phoenix:20241113T173000
DTSTAMP:20260422T085916
CREATED:20241113T192329Z
LAST-MODIFIED:20241113T192552Z
UID:8345-1731519000-1731519000@fainsignaturegroup.com
SUMMARY:SMARTGirls Virtual Fashion Show
DESCRIPTION:Grab some hot chocolate and a cozy blanket\, because you won’t want to miss this. Our own SMARTgirls staff with be putting on a show for you. Join the fun\, as we show you some of the stylish winter items that have come into the store. Not only that\, but you can shop these fashions from the comfort of your own home. Set a reminder! You will not regret it! \nJoin event here: Virtual Fashion Show
URL:https://fainsignaturegroup.com/event/smartgirls-virtual-fashion-show/
LOCATION:Online
CATEGORIES:Tenant Events
ATTACH;FMTTYPE=image/jpeg:https://fainsignaturegroup.com/wp-content/uploads/2024/11/464500647_1627888004593033_5395553058054470641_n.jpg
END:VEVENT
BEGIN:VEVENT
DTSTART;TZID=America/Phoenix:20241122T100000
DTEND;TZID=America/Phoenix:20241122T170000
DTSTAMP:20260422T085916
CREATED:20241121T211546Z
LAST-MODIFIED:20241121T211546Z
UID:8424-1732269600-1732294800@fainsignaturegroup.com
SUMMARY:Pink Friday Holiday Event at SMARTGirls
DESCRIPTION:Mark your calendars because Pink Friday is almost here! 💕 Join us on November 22 for a special holiday shopping day designed just for you. We’ll have exclusive scratch-offs for surprise discounts at checkout and a festive candy cane raffle for a chance to win a little extra holiday cheer! 🍬🎁 \nIt’s the perfect time to grab winter styles\, holiday accessories\, and those one-of-a-kind pieces for your wardrobe or a gift for someone special. And don’t worry — we’ll have our friendly team here to help you find just what you need. ✨ \nCan’t wait to see you for a day full of shopping\, surprises\, and festive fun!
URL:https://fainsignaturegroup.com/event/pink-friday-holiday-event-at-smartgirls/
LOCATION:SMARTGirls Resale Fashion\, 7025 Florentine Dr Suite 107\, Prescott Valley\, AZ\, 86314\, United States
CATEGORIES:Tenant Events
ATTACH;FMTTYPE=image/png:https://fainsignaturegroup.com/wp-content/uploads/2024/11/Facebook-Posts-7.png
END:VEVENT
END:VCALENDAR