BEGIN:VCALENDAR
VERSION:2.0
PRODID:-//Fain Signature Group - ECPv6.15.16//NONSGML v1.0//EN
CALSCALE:GREGORIAN
METHOD:PUBLISH
X-ORIGINAL-URL:https://fainsignaturegroup.com
X-WR-CALDESC:Events for Fain Signature Group
REFRESH-INTERVAL;VALUE=DURATION:PT1H
X-Robots-Tag:noindex
X-PUBLISHED-TTL:PT1H
BEGIN:VTIMEZONE
TZID:America/Phoenix
BEGIN:STANDARD
TZOFFSETFROM:-0700
TZOFFSETTO:-0700
TZNAME:MST
DTSTART:20230101T000000
END:STANDARD
END:VTIMEZONE
BEGIN:VEVENT
DTSTART;TZID=America/Phoenix:20240712T183000
DTEND;TZID=America/Phoenix:20240712T213000
DTSTAMP:20260423T005837
CREATED:20240119T215555Z
LAST-MODIFIED:20240507T235832Z
UID:6998-1720809000-1720819800@fainsignaturegroup.com
SUMMARY:Final Summer Concert Series
DESCRIPTION:Come on out to the Prescott Valley Town Center for the final concert of the FREE Summer Concert Series. The last concert will be on Friday\, July 12th from 6:30PM- 9:30PM. Prescott Valley’s Summer Concert Series will be at the events turf park directly behind COLT Grill and just across from IN THE GAME at 2980 N Park Ave\, Prescott Valley\, Arizona. \nThe free 2024 Summer Concert Series is presented by the Fain Family Foundation with the aid of Sky City Productions and will feature a wine and beer garden. \nBring out lawn chairs\, family\, and friends for this free community event. (No pets please). \n  \nYou can download a event flyer to hang at your business location if you would like below. \nDOWNLOAD FLYER HERE \n \n  \nThank you to our partners and sponsors of this event!\n  \n \n \n \n \n  \n \n  \n \n \n  \nOur Presenting Sponsor\nThe Fain Family Foundation is a philanthropic organization deeply rooted in our history of always giving back and taking care of others. From gifts of land to create a town\, to regional events\, the Fain Family Foundation focuses on community needs and making a great life for all.
URL:https://fainsignaturegroup.com/event/final-summer-concert-series/
LOCATION:Town Center Turf Park\, 2980 N Park Ave\, Prescott Valley\, AZ\, 86314\, United States
CATEGORIES:Prescott Valley Town Center
ATTACH;FMTTYPE=image/jpeg:https://fainsignaturegroup.com/wp-content/uploads/2024/01/SignalsAZ_2024SummerConcertSeries_BannerAdv2_1200x450.jpg
ORGANIZER;CN="Fain Signature Group":MAILTO:PVTCevents@gmail.com
END:VEVENT
END:VCALENDAR