BEGIN:VCALENDAR
VERSION:2.0
PRODID:-//Fain Signature Group - ECPv6.15.16//NONSGML v1.0//EN
CALSCALE:GREGORIAN
METHOD:PUBLISH
X-ORIGINAL-URL:https://fainsignaturegroup.com
X-WR-CALDESC:Events for Fain Signature Group
REFRESH-INTERVAL;VALUE=DURATION:PT1H
X-Robots-Tag:noindex
X-PUBLISHED-TTL:PT1H
BEGIN:VTIMEZONE
TZID:America/Phoenix
BEGIN:STANDARD
TZOFFSETFROM:-0700
TZOFFSETTO:-0700
TZNAME:MST
DTSTART:20240101T000000
END:STANDARD
END:VTIMEZONE
BEGIN:VEVENT
DTSTART;TZID=America/Phoenix:20250228T180000
DTEND;TZID=America/Phoenix:20250228T200000
DTSTAMP:20260419T171320
CREATED:20250204T185628Z
LAST-MODIFIED:20250204T185652Z
UID:8549-1740765600-1740772800@fainsignaturegroup.com
SUMMARY:SMARTgirls 5th Annual Galentines
DESCRIPTION:SMARTgirls Resale Fashion of Prescott Valley\, AZ.\, is having their 5th Annual Galentines Party Friday\, Feb 28th from 6pm – 8pm. Get ready for some laughter\, friendships\, and surprises! \n  \nSMARTgirls Location\n7025 E Florentine Rd Suite 107\nPrescott Valley\, Az 86314 \nMon. – Sat. 10:00am – 5:00pm\nSunday\, Closed \n928-772-1227
URL:https://fainsignaturegroup.com/event/smartgirls-5th-annual-galentines/
LOCATION:SMARTGirls Resale Fashion\, 7025 Florentine Dr Suite 107\, Prescott Valley\, AZ\, 86314\, United States
CATEGORIES:Tenant Events
ATTACH;FMTTYPE=image/jpeg:https://fainsignaturegroup.com/wp-content/uploads/2025/02/lo-lindo-uYb6XVryrGM-unsplash-1-scaled.jpg
END:VEVENT
END:VCALENDAR