BEGIN:VCALENDAR
VERSION:2.0
PRODID:-//Fain Signature Group - ECPv6.15.16//NONSGML v1.0//EN
CALSCALE:GREGORIAN
METHOD:PUBLISH
X-WR-CALNAME:Fain Signature Group
X-ORIGINAL-URL:https://fainsignaturegroup.com
X-WR-CALDESC:Events for Fain Signature Group
REFRESH-INTERVAL;VALUE=DURATION:PT1H
X-Robots-Tag:noindex
X-PUBLISHED-TTL:PT1H
BEGIN:VTIMEZONE
TZID:America/Phoenix
BEGIN:STANDARD
TZOFFSETFROM:-0700
TZOFFSETTO:-0700
TZNAME:MST
DTSTART:20230101T000000
END:STANDARD
END:VTIMEZONE
BEGIN:VEVENT
DTSTART;TZID=America/Phoenix:20240505T100000
DTEND;TZID=America/Phoenix:20240505T150000
DTSTAMP:20260421T022058
CREATED:20240215T231229Z
LAST-MODIFIED:20240419T181400Z
UID:7416-1714903200-1714921200@fainsignaturegroup.com
SUMMARY:Prescott Valley Community Market
DESCRIPTION:The Prescott Valley Community Market comes to life through the local small business merchants that are presented every Sunday from 10:00AM – 3:00PM in the Prescott Valley Town Center in front of Harkins Theatres. The community event is FREE to the public. \nVendor spaces start at $25/day for a 10 x 10 space. You can share a space with a friend for $35/day. Food truck spaces are $40/day. Please contact prescottvalleycommunitymarket@gmail.com for vendor inquiries and more information. \nSpring Prescott Valley Community Market Dates:\nSunday from 10:00AM – 3:00PM \n\nApril 7th\nApril 14th\nApril 21st\nApril 28th\nMay 5th\nMay 12th\nMay 19th
URL:https://fainsignaturegroup.com/event/prescott-valley-community-market-6/
LOCATION:Prescott Valley Town Center\, 3001 N Main St\, Prescott Valley\, AZ\, 86314\, United States
CATEGORIES:Prescott Valley Town Center
ATTACH;FMTTYPE=image/jpeg:https://fainsignaturegroup.com/wp-content/uploads/2024/02/Cinco-De-Mayo-instagram-templete-2-Made-with-PosterMyWall.jpg
ORGANIZER;CN="Prescott Valley Community Market":MAILTO:prescottvalleycommunitymarket@gmail.com
END:VEVENT
END:VCALENDAR