BEGIN:VCALENDAR
VERSION:2.0
PRODID:-//Fain Signature Group - ECPv6.15.16//NONSGML v1.0//EN
CALSCALE:GREGORIAN
METHOD:PUBLISH
X-WR-CALNAME:Fain Signature Group
X-ORIGINAL-URL:https://fainsignaturegroup.com
X-WR-CALDESC:Events for Fain Signature Group
REFRESH-INTERVAL;VALUE=DURATION:PT1H
X-Robots-Tag:noindex
X-PUBLISHED-TTL:PT1H
BEGIN:VTIMEZONE
TZID:America/Phoenix
BEGIN:STANDARD
TZOFFSETFROM:-0700
TZOFFSETTO:-0700
TZNAME:MST
DTSTART:20230101T000000
END:STANDARD
END:VTIMEZONE
BEGIN:VEVENT
DTSTART;TZID=America/Phoenix:20240302T173000
DTEND;TZID=America/Phoenix:20240302T203000
DTSTAMP:20260423T213835
CREATED:20240205T192653Z
LAST-MODIFIED:20240216T222749Z
UID:7199-1709400600-1709411400@fainsignaturegroup.com
SUMMARY:Smart Girls 4th Annual Galentine's Party
DESCRIPTION:Join us at the Smart Girls 4th Annual Galentine’s Party! \nCelebrate the friendship with a Tea Party on Saturday\, March 2\, 2024 starting at 5:30 PM. Get ready to have a blast with your gal pals\, surrounded by the vibrant atmosphere of SMARTgirls Resale Fashion. \nIndulge in an evening filled with laughter\, fun activities\, and memorable moments. Dress to impress in your best tea party outfit\, as we’ll be showcasing the latest fashion trends and offering exclusive discounts on our fabulous collection. \nOur Galentine’s Party is the perfect opportunity to feel like a princess and take home an amazing keepsake.\nBut that’s not all! We have giveaways throughout the night. Plus\, indulge in delicious treats that continue to tea party theme. \nDon’t miss out on this incredible evening of friendship\, fashion\, and fun! Mark your calendars and invite your favorite gals to join us at the Smart Girls 4th Annual Galentine’s Party. We can’t wait to celebrate with you! \nTickets only $15\nFor more information or to purchase tickets:\nhttps://fb.me/e/eEEnsHimX
URL:https://fainsignaturegroup.com/event/smart-girls-4th-annual-galentines-party/
LOCATION:SMARTGirls Resale Fashion\, 7025 Florentine Dr Suite 107\, Prescott Valley\, AZ\, 86314\, United States
CATEGORIES:Tenant Events
ATTACH;FMTTYPE=image/png:https://fainsignaturegroup.com/wp-content/uploads/2024/02/Mark-your-calendars-and-invite-your-favorite-gals-to-join-us-at-the-Smart-Girls-4th-Annual-Galentines-Party.png
END:VEVENT
BEGIN:VEVENT
DTSTART;TZID=America/Phoenix:20240309T100000
DTEND;TZID=America/Phoenix:20240309T170000
DTSTAMP:20260423T213835
CREATED:20240123T184955Z
LAST-MODIFIED:20240221T174242Z
UID:7094-1709978400-1710003600@fainsignaturegroup.com
SUMMARY:SMARTGirls Super Saturday Sale
DESCRIPTION:SMARTGirls Resale Fashion has their Super Saturday Sale the 2nd and 4th Saturday of every month. The sale includes items as low as $3 as well as items marked 50% and 75% off! Head on over the SMARTGirls Resale Fashion to get some great deals on new and gently used clothing. You can view more information at SMARTGirlsFashion.com. \n  \nDon’t forget! SMARTGirls has moved to their new location in Downtown Prescott Valley at 7025 Florentine Dr Suite 107. Now located in the Fry’s Marketplace Center beside Ciao Bella.
URL:https://fainsignaturegroup.com/event/smartgirls-super-saturday-sale-4/
LOCATION:SMARTGirls Resale Fashion\, 7025 Florentine Dr Suite 107\, Prescott Valley\, AZ\, 86314\, United States
CATEGORIES:Tenant Events
ATTACH;FMTTYPE=image/jpeg:https://fainsignaturegroup.com/wp-content/uploads/2024/01/processed-1372A73F-A5F5-42F5-B8DD-FCFA89133D63-1.jpeg
END:VEVENT
BEGIN:VEVENT
DTSTART;VALUE=DATE:20240318
DTEND;VALUE=DATE:20240324
DTSTAMP:20260423T213835
CREATED:20240318T171205Z
LAST-MODIFIED:20240318T171222Z
UID:7568-1710720000-1711238399@fainsignaturegroup.com
SUMMARY:Spring Fling Jewelry Cleaning Event
DESCRIPTION:  \nHead on over to Afterglow Jewelers to take advantage of the great spring specials going on! Hurry! This event won’t last forever. The Spring Fling cleaning event is March 18th – March 23rd. \n  \nHours of operation for Afterglow Jewelers are: \nMon: 10:00 am – 05:00 pm \nTue: 10:00 am – 05:00 pm \nWed: 10:00 am – 05:00 pm \nThu: 10:00 am – 05:00 pm \nFri: 10:00 am – 05:00 pm \nSat: 10:00 am – 03:00 pm \nSun: Closed
URL:https://fainsignaturegroup.com/event/spring-fling-jewelry-cleaning-event/
LOCATION:Afterglow Jewelers\, 7025 Florentine Rd #106\, Prescott Valley\, AZ\, 86314\, United States
CATEGORIES:Tenant Events
ATTACH;FMTTYPE=image/png:https://fainsignaturegroup.com/wp-content/uploads/2024/03/Untitled-2-1.png
ORGANIZER;CN="Afterglow Jewelers":MAILTO:MJB@afterglowjewelers.com
END:VEVENT
BEGIN:VEVENT
DTSTART;TZID=America/Phoenix:20240323T100000
DTEND;TZID=America/Phoenix:20240323T170000
DTSTAMP:20260423T213835
CREATED:20240123T185019Z
LAST-MODIFIED:20240221T174229Z
UID:7098-1711188000-1711213200@fainsignaturegroup.com
SUMMARY:SMARTGirls Super Saturday Sale
DESCRIPTION:SMARTGirls Resale Fashion has their Super Saturday Sale the 2nd and 4th Saturday of every month. The sale includes items as low as $3 as well as items marked 50% and 75% off! Head on over the SMARTGirls Resale Fashion to get some great deals on new and gently used clothing. You can view more information at SMARTGirlsFashion.com. \n  \nDon’t forget! SMARTGirls has moved to their new location in Downtown Prescott Valley at 7025 Florentine Dr Suite 107. Now located in the Fry’s Marketplace Center beside Ciao Bella.
URL:https://fainsignaturegroup.com/event/smartgirls-super-saturday-sale-5/
LOCATION:SMARTGirls Resale Fashion\, 7025 Florentine Dr Suite 107\, Prescott Valley\, AZ\, 86314\, United States
CATEGORIES:Tenant Events
ATTACH;FMTTYPE=image/jpeg:https://fainsignaturegroup.com/wp-content/uploads/2024/01/processed-1372A73F-A5F5-42F5-B8DD-FCFA89133D63-1.jpeg
END:VEVENT
END:VCALENDAR