BEGIN:VCALENDAR
VERSION:2.0
PRODID:-//Fain Signature Group - ECPv6.15.16//NONSGML v1.0//EN
CALSCALE:GREGORIAN
METHOD:PUBLISH
X-WR-CALNAME:Fain Signature Group
X-ORIGINAL-URL:https://fainsignaturegroup.com
X-WR-CALDESC:Events for Fain Signature Group
REFRESH-INTERVAL;VALUE=DURATION:PT1H
X-Robots-Tag:noindex
X-PUBLISHED-TTL:PT1H
BEGIN:VTIMEZONE
TZID:America/Phoenix
BEGIN:STANDARD
TZOFFSETFROM:-0700
TZOFFSETTO:-0700
TZNAME:MST
DTSTART:20230101T000000
END:STANDARD
END:VTIMEZONE
BEGIN:VEVENT
DTSTART;TZID=America/Phoenix:20240723T190000
DTEND;TZID=America/Phoenix:20240723T190000
DTSTAMP:20260423T024125
CREATED:20240718T185549Z
LAST-MODIFIED:20240718T185549Z
UID:7972-1721761200-1721761200@fainsignaturegroup.com
SUMMARY:Tremors with Live Intro from Writer/Producer S.S. Wilson
DESCRIPTION:Tremors writer and producer S.S. Wilson will join guests at Harkins Prescott Valley for a special live in-person intro to the Tuesday Night Classics showing of Tremors on Tuesday\, July 23 at 7PM! \nFilm Link: https://www.harkins.com/movies/tremors/2024-07-23 \nFacebook Event Link: https://www.facebook.com/events/858982966085458
URL:https://fainsignaturegroup.com/event/tremors-with-live-intro-from-writer-producer-s-s-wilson/
LOCATION:Harkins Prescott Valley\, 7202 Pav Way\, Prescott Valley\, AZ\, 86314\, United States
CATEGORIES:Prescott Valley Town Center,Tenant Events
ATTACH;FMTTYPE=image/jpeg:https://fainsignaturegroup.com/wp-content/uploads/2024/07/thumbnail_image002.jpg
END:VEVENT
END:VCALENDAR