BEGIN:VCALENDAR
VERSION:2.0
PRODID:-//Fain Signature Group - ECPv6.15.16//NONSGML v1.0//EN
CALSCALE:GREGORIAN
METHOD:PUBLISH
X-WR-CALNAME:Fain Signature Group
X-ORIGINAL-URL:https://fainsignaturegroup.com
X-WR-CALDESC:Events for Fain Signature Group
REFRESH-INTERVAL;VALUE=DURATION:PT1H
X-Robots-Tag:noindex
X-PUBLISHED-TTL:PT1H
BEGIN:VTIMEZONE
TZID:America/Phoenix
BEGIN:STANDARD
TZOFFSETFROM:-0700
TZOFFSETTO:-0700
TZNAME:MST
DTSTART:20230101T000000
END:STANDARD
END:VTIMEZONE
BEGIN:VEVENT
DTSTART;TZID=America/Phoenix:20241017T193000
DTEND;TZID=America/Phoenix:20241017T193000
DTSTAMP:20260420T085825
CREATED:20240920T224516Z
LAST-MODIFIED:20240920T224516Z
UID:8107-1729193400-1729193400@fainsignaturegroup.com
SUMMARY:Parker McCollum
DESCRIPTION:DATE: October 17\, 2024\nDOORS: 6:30PM\nCONCERT: 7:30PM \nParker McCollum Burn It Down Tour\nSpecial Guest: Randy Rogers Band | Owen Riegland \nTICKET INFO\nBOX OFFICE TICKET PRICES: \nStarting at $34.50\nPrices and seating chart are subject to change. \nMEET & GREET UPGRADES\nMeet & Greet Upgrades include a Pre-show Meet & Greet opportunity with Parker McCollum. \n*Must purchase a ticket to the event separately in order to attend.\n**Further details will be emailed to customers closer to the event date. \nHOW TO BUY TICKETS: \nArena Box Office: Monday – Friday 10 am – 3 pm | Online: www.ticketmaster.com | By Phone: 928-772-1819 ext 6060 \nPLEASE NOTE: Additional fees may apply. Online/phone orders will incur additional charges. Ages 24 months and under do not need a ticket if sitting on a lap. For questions about ADA seating options\, please call the arena box office at 928-772-1819 ext 6060. \nABOUT PARKER MCCOLLUM:\nSinger/songwriter and multi-instrumentalist Parker McCollum released Never Enough\, a statement album that cements his status as one of country music’s undeniable new stars\, on May 12 via MCA Nashville. McCollum has been named an ‘Artist to Watch’ by Rolling Stone\, Billboard\,SiriusXM\, CMT\, RIAA\, and more with American Songwriter noting\, “The Texas native teeters on the edge of next-level superstardom.” Music Row listed McCollum as their 2021 Breakout Artist of the Year and Apple also included him as one of their all-genre “Up Next Artists” Class of 2021. A dedicated road warrior\, McCollum made his debut at the famed Grand Ole Opry in 2021 and he already sells out venues across the country (over 40 sold out shows nationwide in 2021) including record-breaking crowds in Dallas (20\,000)\, The Woodlands (16\,500)\, Austin (7500+)\, Lubbock (7700+)\, Jackson\, MS (5000+)\, Kearney\, NE (3000+)\, Nashville’s Ryman Auditorium\, and three nights at Fort Worth’s iconic Billy Bob’s Texas. In March 2022\, McCollum made his debut at RODEOHOUSTON to a sold-out crowd with over 73\,000 tickets sold\, returning to perform at the Opening Day celebration in 2023. He recently made a dream come true with his first-ever Austin City Limits performance\, kicking off their 2023 season. In 2022\, McCollum earned his first ACM Award for New Male Artist of the Year\, took home “Breakthrough Video of the Year” (a fully fan-voted honor) at the 2022 CMT Music Awards and scored two back-to-back CMA Awards nominations (2022 & 2023) for New Artist of the Year. The undeniable superstar has taken four consecutive singles to #1 including “Pretty Heart\,” “To Be Loved By You\,” “Handle on You\,” and “Burn It
URL:https://fainsignaturegroup.com/event/parker-mccollum-2/
LOCATION:Findlay Toyota Center\, 3201 N. Main St.\, Prescott Valley\, AZ\, 86314\, United States
CATEGORIES:Findlay Toyota Center
ATTACH;FMTTYPE=image/jpeg:https://fainsignaturegroup.com/wp-content/uploads/2024/09/FwRmj.jpg
ORGANIZER;CN="Findlay Toyota Center":MAILTO:info@findlaytoyotacenter.com
END:VEVENT
END:VCALENDAR