BEGIN:VCALENDAR
VERSION:2.0
PRODID:-//Fain Signature Group - ECPv6.15.16//NONSGML v1.0//EN
CALSCALE:GREGORIAN
METHOD:PUBLISH
X-WR-CALNAME:Fain Signature Group
X-ORIGINAL-URL:https://fainsignaturegroup.com
X-WR-CALDESC:Events for Fain Signature Group
REFRESH-INTERVAL;VALUE=DURATION:PT1H
X-Robots-Tag:noindex
X-PUBLISHED-TTL:PT1H
BEGIN:VTIMEZONE
TZID:America/Phoenix
BEGIN:STANDARD
TZOFFSETFROM:-0700
TZOFFSETTO:-0700
TZNAME:MST
DTSTART:20230101T000000
END:STANDARD
END:VTIMEZONE
BEGIN:VEVENT
DTSTART;VALUE=DATE:20240509
DTEND;VALUE=DATE:20240513
DTSTAMP:20260421T193618
CREATED:20240119T214039Z
LAST-MODIFIED:20240509T215747Z
UID:6988-1715212800-1715558399@fainsignaturegroup.com
SUMMARY:Prescott Valley Days
DESCRIPTION:Talent-Show\nDates & Details:​ \nTalent Show & Contest – Thursday\, May 9th at 6:00 pm (Doors open at 5:30 pm) Ticket cost is $5 for over 18 years old.\nLocation: Prescott Valley Performing Arts & Main Street Theatre\, 3235 N Main Street\, Prescott Valley \nThree categories of Ages – 5 from each age group will be chosen at auditions. (Group acts are welcome\, age group will be determined by whatever ages there are the most of in the group.) \n10- 14\n15-18\n19 & Up\nFirst Place Winner in each category will receive $50 prize. Group acts will share the prize among the group. \nOpen House Auditions: Saturday\, April 27th 10:00am – 11:00pm \nREGISTER NOW by clicking here. \nCome share your talent with Prescott Valley! Questions: 928-515-2944 or email pvperformingarts@gmail.com. \n  \nParade\nOn Saturday\, May 11th at 9 a.m. the parade sponsored by the Prescott Valley Early Bird Lions Club will begin. \n“Out of this World” is the theme and we invite youth\, businesses\, non-profits and community members to join us for this Prescott Valley Days tradition. \nDate: Saturday\, May 11\, 2024 \nTime: 9:00 am \nClick here for a Parade entry form. \n  \nCosplay\nJoin us for the fourth annual PV Days Cosplay Contest. This is such a fun event and we are glad to bring it back for another year! \nWe encourage all participants to pre-register ahead of the event. Registration will only be open from 10:30-11:00am on May 11th. We ask all participant to please review the 2024 Cosplay Contest Rules. \nDate: Saturday\, May 11\, 2024\nStart Time: 11:00am MST\nEnd Time: 12:00pm MST\nPrice: Free!\nPrizes: Prizes will be awarded in each age category.\nRegistration: Pre-registration now open! Click here to pre-register. Day of registration will be available from 10:30am-11am on Saturday\, May 11. \nFor any questions please contact april@pvchamber.org.
URL:https://fainsignaturegroup.com/event/prescott-valley-days/
LOCATION:Main Street Theatre\, 3235 N Main Street\, Prescott Valley\, AZ\, 86314\, United States
CATEGORIES:Prescott Valley Chamber
ATTACH;FMTTYPE=image/png:https://fainsignaturegroup.com/wp-content/uploads/2024/01/PV-Days-2024-Web-Header-1.png
ORGANIZER;CN="Prescott Valley Chamber of Commerce":MAILTO:kim@pvchamber.org
END:VEVENT
END:VCALENDAR