BEGIN:VCALENDAR
VERSION:2.0
PRODID:-//Fain Signature Group - ECPv6.15.16//NONSGML v1.0//EN
CALSCALE:GREGORIAN
METHOD:PUBLISH
X-WR-CALNAME:Fain Signature Group
X-ORIGINAL-URL:https://fainsignaturegroup.com
X-WR-CALDESC:Events for Fain Signature Group
REFRESH-INTERVAL;VALUE=DURATION:PT1H
X-Robots-Tag:noindex
X-PUBLISHED-TTL:PT1H
BEGIN:VTIMEZONE
TZID:America/Phoenix
BEGIN:STANDARD
TZOFFSETFROM:-0700
TZOFFSETTO:-0700
TZNAME:MST
DTSTART:20230101T000000
END:STANDARD
END:VTIMEZONE
BEGIN:VEVENT
DTSTART;TZID=America/Phoenix:20240822T160000
DTEND;TZID=America/Phoenix:20240822T190000
DTSTAMP:20260420T122540
CREATED:20240119T220759Z
LAST-MODIFIED:20240818T135627Z
UID:7000-1724342400-1724353200@fainsignaturegroup.com
SUMMARY:Country Concert Pre-Show Party
DESCRIPTION:Get ready for the Lainey Wilson concert with a FREE event including food\, drinks\, games\, and fun at the Prescott Valley Town Center on August 22nd from 4PM-7PM in the Turf Park behind COLT Grill. \nWhat’s included: \n\nLive country music by Free Radicals\nBeer & wine garden\nFood\nHat Bar by Desert’N’Twine\nWestern Vendors\n\n\nLainey Wilson Concert Tickets Raffle – Contest Rules\n1. Eligibility: \n\nParticipants must be 18 years or older to enter.\nOnly attendees of the event are eligible to win; must be present to win.\n\n2. Raffle Tickets: \n\nParticipants can purchase multiple raffle tickets.\nAn extra raffle ticket will be awarded to any participant who can prove they liked and shared the designated social media post about the raffle.\n\n3. Proof of Social Media Activity: \n\nTo receive the extra raffle ticket\, participants must present proof (e.g.\, screenshot) that they have liked and shared the official social media post related to the raffle.\nProof must be presented at the time of raffle ticket purchase or at the designated check-in area.\n\n4. Raffle Draw: \n\nThe raffle draw will take place at 6:50pm the night of the concert at the Country Concert Pre-Show Party in the Turf Park\nWinners will be drawn randomly from all eligible raffle tickets.\n\n5. Claiming Prizes: \n\nWinners must be present at the time of the draw to claim their prize.\nIf a winner is not present\, another ticket will be drawn until the prize is claimed.\n\n6. Conduct: \n\nParticipants are expected to conduct themselves in a respectful manner.\nAny form of cheating\, harassment\, or misconduct will result in disqualification from the raffle.\n\n7. Final Decision: \n\nThe decision of the event organizers regarding the raffle is final.\nNo substitutions\, exchanges\, or cash alternatives will be provided for the prize.\n\n8. Disclaimer: \n\nBy participating in the raffle\, participants agree to release and hold harmless the Fain Family Foundation and all associated entities from any liability arising from participation or prize acceptance.\n\n9. Amendments: \n\nThe Fain Family Foundation reserves the right to amend or change these rules at any time. Participants will be informed of any changes as soon as they occur.\n\nRaffle Ticket Pricing: \n1 for $1 \n6 for $6 \n15 for $10 \n30 for $20 \n  \nThank you to our partners and sponsors of this event!\n  \n \n \n \n \n  \n \n \n \n \n  \nOur Presenting Sponsor\nThe Fain Family Foundation is a philanthropic organization deeply rooted in our history of always giving back and taking care of others. From gifts of land to create a town\, to regional events\, the Fain Family Foundation focuses on community needs and making a great life for all.
URL:https://fainsignaturegroup.com/event/lainey-wilson-pre-party/
LOCATION:Town Center Turf Park\, 2980 N Park Ave\, Prescott Valley\, AZ\, 86314\, United States
CATEGORIES:Prescott Valley Town Center
ATTACH;FMTTYPE=image/jpeg:https://fainsignaturegroup.com/wp-content/uploads/2024/01/SignalsAZ_2024FSGCountryConcertParty_ArticleGraphic1025x576-scaled.jpg
ORGANIZER;CN="Fain Signature Group":MAILTO:PVTCevents@gmail.com
END:VEVENT
END:VCALENDAR