BEGIN:VCALENDAR
VERSION:2.0
PRODID:-//Fain Signature Group - ECPv6.15.16//NONSGML v1.0//EN
CALSCALE:GREGORIAN
METHOD:PUBLISH
X-WR-CALNAME:Fain Signature Group
X-ORIGINAL-URL:https://fainsignaturegroup.com
X-WR-CALDESC:Events for Fain Signature Group
REFRESH-INTERVAL;VALUE=DURATION:PT1H
X-Robots-Tag:noindex
X-PUBLISHED-TTL:PT1H
BEGIN:VTIMEZONE
TZID:America/Phoenix
BEGIN:STANDARD
TZOFFSETFROM:-0700
TZOFFSETTO:-0700
TZNAME:MST
DTSTART:20230101T000000
END:STANDARD
END:VTIMEZONE
BEGIN:VEVENT
DTSTART;TZID=America/Phoenix:20241114T173000
DTEND;TZID=America/Phoenix:20241114T200000
DTSTAMP:20260422T212816
CREATED:20241105T204914Z
LAST-MODIFIED:20241105T204914Z
UID:8326-1731605400-1731614400@fainsignaturegroup.com
SUMMARY:Prescott Area Young Professionals After 5 Mixer
DESCRIPTION:Join us for a mixer with the Prescott Area Young Professionals! Create custom ornaments for $5 each. First come\, first serve. Enjoy a night of creativity and holiday fun with fellow young professionals. Snacks included. Ages 21+. \nBring a friend\, plenty of business cards\, and a raffle item!
URL:https://fainsignaturegroup.com/event/prescott-area-young-professionals-after-5-mixer/
LOCATION:Board and Brush\, 156 S Montezuma St suite d Prescott\, Arizona\, Prescott\, AZ\, 86303\, United States
CATEGORIES:Community Events
ATTACH;FMTTYPE=image/png:https://fainsignaturegroup.com/wp-content/uploads/2024/11/Nov-Mixer-BB.png
ORGANIZER;CN="Prescott Area Young Professionals":MAILTO:prescottyp@gmail.com
END:VEVENT
BEGIN:VEVENT
DTSTART;TZID=America/Phoenix:20241119T180000
DTEND;TZID=America/Phoenix:20241119T200000
DTSTAMP:20260422T212816
CREATED:20241022T201102Z
LAST-MODIFIED:20241022T201102Z
UID:8192-1732039200-1732046400@fainsignaturegroup.com
SUMMARY:PAYP Educational Event
DESCRIPTION:Join us for our last educational event of the year! \n“Collage Gratitude Tree” Art Class by Jenny Rose – at Blue Plume Studio \nJoin us for a Night of Gratitude! We will be creating Collage Gratitude Trees\, a favorite class offered by Jenny Rose\, a talented artist and valued PAYP member. Through this process\, you will get to enjoy a variety of mediums to create your finished collage fall tree by the end of the night. Jenny guides you step by step through the whole experience\, so whether you have never created before or excel at the arts\, this class is a great one to attend! \nWhen? Tuesday\, November 19th\, 6-8pm\nCost? $20 per person\nWhere? 1098 E Couling Rd\, Chino Valley\, AZ 86323\nRegister: https://form.jotform.com/232356344945158 \nLast day to register is November 17\, 2024. Limited to 12 spots. \nAbout our host & instructor: Jenny Rose Harlow has been teaching art classes and hosting art events full time for children and adults for the last 15 years. A fine art graduate of Azusa Pacific University\, Jenny is well traveled and well versed in the art world\, having her paintings collected on every continent of the world. As well as her passion for teaching\, she often travels the country live speed painting for events and shows\, having painted and sold her art in a third of the USA. She owns a farm in Chino Valley full of rescued animals and invites you to experience the magical haven that Blue Plume Studio is. Join us there for our PYAP event! \nFind more info at: https://prescottareayp.org/event/educational-event-gratitude-tree-art/
URL:https://fainsignaturegroup.com/event/payp-educational-event/
LOCATION:Blue Plume Stuido\, 1098 E Couling Rd\, Chino Valley\, AZ\, United States
CATEGORIES:Community Events
ATTACH;FMTTYPE=image/jpeg:https://fainsignaturegroup.com/wp-content/uploads/2024/10/PAYP-November-Edu-2.jpg
ORGANIZER;CN="Prescott Area Young Professionals":MAILTO:prescottyp@gmail.com
END:VEVENT
BEGIN:VEVENT
DTSTART;TZID=America/Phoenix:20241125T120000
DTEND;TZID=America/Phoenix:20241125T180000
DTSTAMP:20260422T212816
CREATED:20241022T201912Z
LAST-MODIFIED:20241022T201912Z
UID:8196-1732536000-1732557600@fainsignaturegroup.com
SUMMARY:22nd Annual Flying High Turkey Drive
DESCRIPTION:Help the Prescott Chamber of Commerce and Prescott Area Young Professionals support the Yavapai County Food Bank by providing a great Thanksgiving Dinner for our less fortunate friends and families in the community. Any and all contributions are greatly appreciated and are sure to make a difference by blessing a family this Thanksgiving. \nThe goal is to collect 2\,500 turkeys or more this year! Our two participating locations in Prescott are Fry’s Grocery Stores (950 Fair Street and 3198 Willow Creek Road). All donations to the Thanksgiving Food Baskets will be distributed by the Yavapai County Food Bank. \nSign up to volunteer here: https://www.signupgenius.com/go/10C0B44AAAB28A4FDC43-51831667-turkey#/ \nFor more details visit: https://prescottareayp.org/event/flying-high-turkey-drive-volunteer-event/
URL:https://fainsignaturegroup.com/event/22nd-annual-flying-high-turkey-drive/
LOCATION:Fry’s Grocery Store\, 3198 Willow Creek Road\, Prescott\, AZ\, United States
CATEGORIES:Community Events
ATTACH;FMTTYPE=image/png:https://fainsignaturegroup.com/wp-content/uploads/2024/10/2024-Chamber-Flying-High-Turkey-Flyer-NO-APPROVED.png
ORGANIZER;CN="Prescott Area Young Professionals":MAILTO:prescottyp@gmail.com
END:VEVENT
END:VCALENDAR