BEGIN:VCALENDAR
VERSION:2.0
PRODID:-//Fain Signature Group - ECPv6.15.16//NONSGML v1.0//EN
CALSCALE:GREGORIAN
METHOD:PUBLISH
X-ORIGINAL-URL:https://fainsignaturegroup.com
X-WR-CALDESC:Events for Fain Signature Group
REFRESH-INTERVAL;VALUE=DURATION:PT1H
X-Robots-Tag:noindex
X-PUBLISHED-TTL:PT1H
BEGIN:VTIMEZONE
TZID:America/Phoenix
BEGIN:STANDARD
TZOFFSETFROM:-0700
TZOFFSETTO:-0700
TZNAME:MST
DTSTART:20230101T000000
END:STANDARD
END:VTIMEZONE
BEGIN:VEVENT
DTSTART;TZID=America/Phoenix:20241125T180000
DTEND;TZID=America/Phoenix:20241125T200000
DTSTAMP:20260421T211029
CREATED:20241113T172603Z
LAST-MODIFIED:20241113T193242Z
UID:8334-1732557600-1732564800@fainsignaturegroup.com
SUMMARY:P.H.S Elf Movie Night
DESCRIPTION:The P.H.S Choir and Band will be hosting a movie night to raise funds for their trip to Disneyland. \nCome and watch “Elf” on Monday\, November 25th from 6:00PM-8:00PM at the Ruth Street Theatre at 1050 Ruth St.\, Prescott\, AZ. \nDoors open at 5:30PM and donations are appreciated. Concessions will also be available.
URL:https://fainsignaturegroup.com/event/p-h-s-elf-movie-night/
LOCATION:Ruth Street Theater P.H.S\, 1050 Ruth St\, Prescott\, AZ\, 86301\, United States
CATEGORIES:Community Events
ATTACH;FMTTYPE=image/png:https://fainsignaturegroup.com/wp-content/uploads/2024/11/11-25.png
END:VEVENT
END:VCALENDAR