BEGIN:VCALENDAR
VERSION:2.0
PRODID:-//Fain Signature Group - ECPv6.15.16//NONSGML v1.0//EN
CALSCALE:GREGORIAN
METHOD:PUBLISH
X-ORIGINAL-URL:https://fainsignaturegroup.com
X-WR-CALDESC:Events for Fain Signature Group
REFRESH-INTERVAL;VALUE=DURATION:PT1H
X-Robots-Tag:noindex
X-PUBLISHED-TTL:PT1H
BEGIN:VTIMEZONE
TZID:America/Phoenix
BEGIN:STANDARD
TZOFFSETFROM:-0700
TZOFFSETTO:-0700
TZNAME:MST
DTSTART:20230101T000000
END:STANDARD
END:VTIMEZONE
BEGIN:VEVENT
DTSTART;TZID=America/Phoenix:20240928T193000
DTEND;TZID=America/Phoenix:20240928T193000
DTSTAMP:20260421T175730
CREATED:20240920T222646Z
LAST-MODIFIED:20240920T222646Z
UID:8098-1727551800-1727551800@fainsignaturegroup.com
SUMMARY:Mortensen Bull Riding Invitational
DESCRIPTION:DATE: Saturday\, September 28th\, 2024\nDOORS: 6:00PM\nEVENT START: 7:30PM \nMortensen Bull Riding Invitational \nJoin us for the Yavapai Bottle Gas Mortensen Invitational\, presented by Bucky’s Casino and Coors Light! Experience the thrill of the most exciting eight seconds in sports as the best riders from PBR and PRCA compete in this exclusive invitational bull riding event in Northern Arizona. Each rider will take on one bull in the Long Round\, with the top 10 advancing to the Short Round. Be sure to purchase your tickets in advance— the best seats sell out fast!\nDon’t miss the Mortensen Invitational\, in town for one night only! \nBUY TICKETS: https://www.findlaytoyotacenter.com/events/mortensen-bull-riding-invitational
URL:https://fainsignaturegroup.com/event/mortensen-bull-riding-invitational/
LOCATION:Findlay Toyota Center\, 3201 N. Main St.\, Prescott Valley\, AZ\, 86314\, United States
CATEGORIES:Findlay Toyota Center
ATTACH;FMTTYPE=image/png:https://fainsignaturegroup.com/wp-content/uploads/2024/09/fQ75Y.png
ORGANIZER;CN="Findlay Toyota Center":MAILTO:info@findlaytoyotacenter.com
END:VEVENT
END:VCALENDAR