BEGIN:VCALENDAR
VERSION:2.0
PRODID:-//Fain Signature Group - ECPv6.15.16//NONSGML v1.0//EN
CALSCALE:GREGORIAN
METHOD:PUBLISH
X-ORIGINAL-URL:https://fainsignaturegroup.com
X-WR-CALDESC:Events for Fain Signature Group
REFRESH-INTERVAL;VALUE=DURATION:PT1H
X-Robots-Tag:noindex
X-PUBLISHED-TTL:PT1H
BEGIN:VTIMEZONE
TZID:America/Phoenix
BEGIN:STANDARD
TZOFFSETFROM:-0700
TZOFFSETTO:-0700
TZNAME:MST
DTSTART:20230101T000000
END:STANDARD
END:VTIMEZONE
BEGIN:VEVENT
DTSTART;TZID=America/Phoenix:20240713T133000
DTEND;TZID=America/Phoenix:20240713T133000
DTSTAMP:20260423T074755
CREATED:20240621T160700Z
LAST-MODIFIED:20240621T160700Z
UID:7939-1720877400-1720877400@fainsignaturegroup.com
SUMMARY:History of Gold in Yavapai County
DESCRIPTION:Come learn the History of Gold in Yavapai County. This is a community education event focused on the history of gold and gold mining in Yavapai County. Guest speakers\, a projection presentation\, and time period equipment and items on display will be presented.\nSaturday\, July 13th. \nDoors open at 1:30pm. Presentation starts at 2:00pm. \n$10 fee. Order your tickets on-line early as a full house is anticipated.
URL:https://fainsignaturegroup.com/event/history-of-gold-in-yavapai-county/
LOCATION:Main Street Theatre\, 3235 N Main Street\, Prescott Valley\, AZ\, 86314\, United States
CATEGORIES:Prescott Valley Performing Arts Main Street Theatre
ATTACH;FMTTYPE=image/jpeg:https://fainsignaturegroup.com/wp-content/uploads/2024/06/History-of-Gold-In-Yavapai-County-Graphic-5-1.jpg
ORGANIZER;CN="Prescott Valley Performing Arts Main Street Theatre":MAILTO:info@pvperformingarts.org
END:VEVENT
END:VCALENDAR