BEGIN:VCALENDAR
VERSION:2.0
PRODID:-//Fain Signature Group - ECPv6.15.16//NONSGML v1.0//EN
CALSCALE:GREGORIAN
METHOD:PUBLISH
X-ORIGINAL-URL:https://fainsignaturegroup.com
X-WR-CALDESC:Events for Fain Signature Group
REFRESH-INTERVAL;VALUE=DURATION:PT1H
X-Robots-Tag:noindex
X-PUBLISHED-TTL:PT1H
BEGIN:VTIMEZONE
TZID:America/Phoenix
BEGIN:STANDARD
TZOFFSETFROM:-0700
TZOFFSETTO:-0700
TZNAME:MST
DTSTART:20230101T000000
END:STANDARD
END:VTIMEZONE
BEGIN:VEVENT
DTSTART;TZID=America/Phoenix:20240902T080000
DTEND;TZID=America/Phoenix:20240902T170000
DTSTAMP:20260422T024822
CREATED:20240829T213630Z
LAST-MODIFIED:20240829T213630Z
UID:8025-1725264000-1725296400@fainsignaturegroup.com
SUMMARY:Mattress America Labor Day Sale
DESCRIPTION:Mattress America in Prescott Valley will host a super Labor Day Sale on September 2nd with select items up to 50% or more off. Come visit the store to take advantage of discounts plus free delivery\, free set-up\, and free removal.
URL:https://fainsignaturegroup.com/event/mattress-america-labor-day-sale/
LOCATION:Mattress America\, 3298 N Glassford Hill Rd suite 101-102\, Prescott Valley\, AZ\, 86314\, United States
ATTACH;FMTTYPE=application/pdf:https://fainsignaturegroup.com/wp-content/uploads/2024/08/Mattress-America_FP_8-28_1099608_SmShop.pdf
END:VEVENT
END:VCALENDAR