BEGIN:VCALENDAR
VERSION:2.0
PRODID:-//Fain Signature Group - ECPv6.15.16//NONSGML v1.0//EN
CALSCALE:GREGORIAN
METHOD:PUBLISH
X-WR-CALNAME:Fain Signature Group
X-ORIGINAL-URL:https://fainsignaturegroup.com
X-WR-CALDESC:Events for Fain Signature Group
REFRESH-INTERVAL;VALUE=DURATION:PT1H
X-Robots-Tag:noindex
X-PUBLISHED-TTL:PT1H
BEGIN:VTIMEZONE
TZID:America/Phoenix
BEGIN:STANDARD
TZOFFSETFROM:-0700
TZOFFSETTO:-0700
TZNAME:MST
DTSTART:20230101T000000
END:STANDARD
END:VTIMEZONE
BEGIN:VEVENT
DTSTART;TZID=America/Phoenix:20240224T090000
DTEND;TZID=America/Phoenix:20240224T160000
DTSTAMP:20260422T144815
CREATED:20240124T180629Z
LAST-MODIFIED:20240124T180629Z
UID:7127-1708765200-1708790400@fainsignaturegroup.com
SUMMARY:Going Beyond Live
DESCRIPTION:DATE: February 24\, 2024\nDOORS: 8:00AM\nEVENT: 9:00AM – 4:00PM \nLifeway Women presents Going Beyond Live with Priscilla Shirer \nHOW TO REGISTER: \nTo register for Going Beyond Live\, visit lifeway.com/goingbeyondlive or call 800.254.2022. \nLifeway Women is excited to announce Going Beyond Live with Priscilla Shirer will take place in four cities across the nation in 2024\, including Prescott Valley\, AZ.\nPriscilla Shirer is known for the best-selling film War Room\, her dynamic\, Bible-based teaching\, and numerous best-selling books and Bible studies\, including The Armor of God\, Discerning the Voice of God\, and Elijah. Her brother\, Christian recording artist Anthony Evans will lead worship at each event. \nPresented by the Nashville-based publishing company Lifeway Christian Resources\, Going Beyond Live will kick off its 18th year in Prescott Valley\, AZ before ending in Cincinnati\, OH (Highland Heights\, KY).\nGoing Beyond Live is an event for women of all ages and backgrounds that focuses on biblical teaching\, study\, prayer\, and worship. \nGoing Beyond Live events will begin at 9:00 a.m. and conclude at 4:00 p.m. on Saturdays. General admission seating for all events is $85. \nABOUT LIFEWAY WOMEN AND LIFEWAY CHRISTIAN RESOURCES\nLifeway Women is a trusted source for biblical events and training. Each year\, more than 100\,000 women participate in the events held throughout the world. Lifeway Christian Resources\, established in 1891 in Nashville\, is one of the world’s largest providers of Christian products and services\, including Bibles\, church literature\, books\, music\, audio and video recordings\, church supplies\, and Internet services through lifeway.com. The company is a nonprofit organization that reinvests income above operating expenses in mission work and other ministries around the world. For additional information\, visit lifeway.com. \nABOUT PRISCILLA SHIRER\nPriscilla Shirer is a Bible teacher and speaker with a master’s degree in biblical studies from Dallas Theological Seminary. Also\, a popular author\, her books and Bible studies include The Armor of God\, Discerning the Voice of God\, Elijah\, the New York Times best-selling Fervent and The Resolution for Women. Priscilla is married to Jerry\, with whom she founded Going Beyond Ministries. They have three sons and live in Dallas\, TX. \nABOUT ANTHONY EVANS\nFor two decades\, Anthony Evans has voiced the gospel with a melodic\, thought-provoking style\, and has emerged as one of Christian music’s premier worship leaders and singer/songwriters. Along the way\, Anthony has released ten solo projects\, (the last two climbing all the way to #1 on Billboard’s Top Gospel Album charts)\, released his first book\, Unexpected Places\, done numerous music videos\, acted in two movies\, and performed as “Beast” in Disney’s Hollywood Bowl production of Beauty and the Beast. In addition\, he has collaborated on inspirational events with his father\, beloved pastor and international speaker\, Dr. Tony Evans; his sisters\, Priscilla Shirer and Chrystal Evans Hurst; and his brother\, author and speaker Jonathan Evans.
URL:https://fainsignaturegroup.com/event/going-beyond-live/
LOCATION:Findlay Toyota Center\, 3201 N. Main St.\, Prescott Valley\, AZ\, 86314\, United States
CATEGORIES:Findlay Toyota Center
ATTACH;FMTTYPE=image/png:https://fainsignaturegroup.com/wp-content/uploads/2024/01/fcBYe.png
ORGANIZER;CN="Findlay Toyota Center":MAILTO:info@findlaytoyotacenter.com
END:VEVENT
END:VCALENDAR