BEGIN:VCALENDAR
VERSION:2.0
PRODID:-//Fain Signature Group - ECPv6.15.16//NONSGML v1.0//EN
CALSCALE:GREGORIAN
METHOD:PUBLISH
X-WR-CALNAME:Fain Signature Group
X-ORIGINAL-URL:https://fainsignaturegroup.com
X-WR-CALDESC:Events for Fain Signature Group
REFRESH-INTERVAL;VALUE=DURATION:PT1H
X-Robots-Tag:noindex
X-PUBLISHED-TTL:PT1H
BEGIN:VTIMEZONE
TZID:America/Phoenix
BEGIN:STANDARD
TZOFFSETFROM:-0700
TZOFFSETTO:-0700
TZNAME:MST
DTSTART:20230101T000000
END:STANDARD
END:VTIMEZONE
BEGIN:VEVENT
DTSTART;VALUE=DATE:20240907
DTEND;VALUE=DATE:20240909
DTSTAMP:20260420T043818
CREATED:20240812T234929Z
LAST-MODIFIED:20240812T235117Z
UID:8013-1725667200-1725839999@fainsignaturegroup.com
SUMMARY:2024 Galactic Pickleball Challenge Fundraiser
DESCRIPTION:You are invited to join The Launch Pad’s 2024 Galactic Pickleball Challenge Fundraiser hosted at Espire Sports on September 7 & 8\, 2024\, and sponsored by Lamb Chevrolet\, PNC\, Prescott Sunrise Lions and Ameriprise Financial. \nThis will be a very FUN event\, with both competitive and recreational divisions. We have scholarships for youth who would like to participate! \nEmail catherine@thelaunchpadteencenter.org for more information. \nRegistration Link
URL:https://fainsignaturegroup.com/event/2024-galactic-pickleball-challenge-fundraiser/
LOCATION:Espire Sports\, 3400 Gateway Blvd\, Prescott\, AZ\, 86303\, United States
CATEGORIES:Community Events
ATTACH;FMTTYPE=image/png:https://fainsignaturegroup.com/wp-content/uploads/2024/08/Pickleball-Instagram-Post-V2.png
ORGANIZER;CN="The Launch Pad":MAILTO:catherine@thelaunchpadteencenter.org
END:VEVENT
BEGIN:VEVENT
DTSTART;TZID=America/Phoenix:20240928T080000
DTEND;TZID=America/Phoenix:20240928T080000
DTSTAMP:20260420T043818
CREATED:20240913T194903Z
LAST-MODIFIED:20240913T194903Z
UID:8060-1727510400-1727510400@fainsignaturegroup.com
SUMMARY:Walk to End Alzheimer's
DESCRIPTION:Event Information\nSchedule of Events:\nRegistration 8:00 AM | Ceremony 9:00 AM | Walk to Immediately Follow \nLocation:\nPrescott Valley Civic Center | 7501 E. Skoog Blvd Prescott Valley\, AZ 86314 | Map it\nRoute Length: Start Walk the Civic Center and walk to the Entertainment District \nContact:\nMalena Peraza | 928.237.2927 | maperaza@alz.org \nGeneral Information\nWhere do the funds go?\nAll funds raised through Walk to End Alzheimer’s further the care\, support and research efforts of the Alzheimer’s Association. The Alzheimer’s Association is a nonprofit 501(c)3 organization. All donations are tax-deductible as allowed by law. \nDo I have to register in order to Walk?\nYes\, we want to know you’re walking with us and need every participant to sign a standard waiver through their official registration. There is no registration fee for Walk. However\, we ask every participant to make a personal donation and commit to raising funds in the fight against Alzheimer’s. \nDo I need to register my children for Walk?\nYes\, children should register. Parents/guardians can register children online or complete an offline registration form and sign the waiver on behalf of the child. \nDoes every participant get a T-shirt?\nEvery registered participant who achieves the fundraising minimum of $100 will receive an official Walk to End Alzheimer’s T-shirt via USPS. To receive a shirt in time for Walk day\, participants must raise the T-shirt minimum at least four weeks prior to the event. \nHow do I get my offline donations to show up on my personal fundraising web page?\nDonations can be made offline by submitting a check or money order by mail or hand-delivering to the local Alzheimer’s Association office. Be sure to include your offline donation form\, which can be found in your Participant Center or on your fundraising web page\, to make sure you receive credit for the donation. Donations typically take one to two weeks to show up on your web page. Don’t want to wait? You can also deposit checks directly to your Walk page from the Walk to End Alzheimer’s mobile app for iPhone or Android. \nEvent Specifics\nAre pets\, strollers\, bicycles and skates allowed on Walk day?\nWe do allow strollers\, but for everyone’s safety\, we discourage skateboards\, bicycles\, inline skates and wheelie footwear. Depending on the Walk location rules\, well-behaved dogs are welcome\, but must be on a leash at all times. \nWhat happens if it rains?\nWalk is a rain or shine event. However\, in the case of severe weather\, we will cancel. If this is the case\, we will update our Walk homepage on or before the morning of the event. \nWe need volunteers! Know anyone who might be interested in helping us on the day of the event?\nWe need volunteers to help with set-up\, clean-up\, registration\, water stops\, Promise Garden and so much more. All interested volunteers should visit our volunteer page for more information about event day roles and responsibilities. \nHow do I get a Promise Garden Flower?\nEach registered participant will receive a Promise Garden flower. Please choose the color that best represents your connection to the disease. \nBlue represents someone living with Alzheimer’s or another dementia\nPurple is for those who have lost a someone to the disease.\nYellow represents someone who is currently supporting or caring for a person living with Alzheimer’s.\nOrange is for those who support the cause and the Association’s vision of a world without Alzheimer’s and all other dementia. \nStill have questions? \nCheck out our FAQs page\, or contact:\nCoordinator: Malena Peraza\nPhone: 928.237.2927\nEmail: maperaza@alz.org \nThank you for all you do in the fight against Alzheimer’s.
URL:https://fainsignaturegroup.com/event/walk-to-end-alzheimers/
LOCATION:Prescott Valley Civic Center\, 7501 E. Skoog Blvd\, Prescott Valley\, AZ\, 86314\, United States
CATEGORIES:Prescott Valley Town Center,Community Events
ATTACH;FMTTYPE=image/png:https://fainsignaturegroup.com/wp-content/uploads/2024/09/Screenshot-2024-09-13-124331.png
ORGANIZER;CN="Northern Arizona Alzheimer's Association":MAILTO:maperaza@alz.org
END:VEVENT
END:VCALENDAR