BEGIN:VCALENDAR
VERSION:2.0
PRODID:-//Fain Signature Group - ECPv6.15.16//NONSGML v1.0//EN
CALSCALE:GREGORIAN
METHOD:PUBLISH
X-WR-CALNAME:Fain Signature Group
X-ORIGINAL-URL:https://fainsignaturegroup.com
X-WR-CALDESC:Events for Fain Signature Group
REFRESH-INTERVAL;VALUE=DURATION:PT1H
X-Robots-Tag:noindex
X-PUBLISHED-TTL:PT1H
BEGIN:VTIMEZONE
TZID:America/Phoenix
BEGIN:STANDARD
TZOFFSETFROM:-0700
TZOFFSETTO:-0700
TZNAME:MST
DTSTART:20230101T000000
END:STANDARD
END:VTIMEZONE
BEGIN:VEVENT
DTSTART;TZID=America/Phoenix:20240803T180000
DTEND;TZID=America/Phoenix:20240803T210000
DTSTAMP:20260420T063058
CREATED:20240624T220341Z
LAST-MODIFIED:20240624T220341Z
UID:7948-1722708000-1722718800@fainsignaturegroup.com
SUMMARY:A Knight to Remember
DESCRIPTION:Join us at Main Street Theatre\, Prescott Valley Performing Arts\, for an evening of medieval food\, fun\, frolicing and fundraising! At “A Knight to Remember” you will mix and mingle with royalty and jesters alike in your best period attire\, while you enjoy dinner\, dessert\, music\, and entertainment\, in addition to a silent auction. \nThis event is located at 3235 N Main Street\, Prescott Valley. \nTickets are $125.00 at pvperformingarts.org.
URL:https://fainsignaturegroup.com/event/a-knight-to-remember/
LOCATION:Main Street Theatre\, 3235 N Main Street\, Prescott Valley\, AZ\, 86314\, United States
CATEGORIES:Prescott Valley Performing Arts Main Street Theatre
ATTACH;FMTTYPE=image/jpeg:https://fainsignaturegroup.com/wp-content/uploads/2024/06/Knight-To-Remember-Save-the-Date.jpeg
ORGANIZER;CN="Prescott Valley Performing Arts Main Street Theatre":MAILTO:info@pvperformingarts.org
END:VEVENT
BEGIN:VEVENT
DTSTART;TZID=America/Phoenix:20240821T180000
DTEND;TZID=America/Phoenix:20240821T180000
DTSTAMP:20260420T063058
CREATED:20240718T220354Z
LAST-MODIFIED:20240729T190301Z
UID:7977-1724263200-1724263200@fainsignaturegroup.com
SUMMARY:100 Men and Women Who Care Joint Event
DESCRIPTION:This summer\, the 100 Men and Women Who Care of Yavapai County are excited to announce their next annual joint major fundraising event where the non-profits The Society of St. Vincent De Paul\, The Salvation Army\, and Catholic Charities Community Services will be presenting. \n  \nThis quarter’s fundraiser is set to take place on August 21st at the Prescott Resort and Conference Center with doors opening at 5:00 pm\, event begins at 6:00 pm.\n  \nThe 100 Men Who Care event welcomes public attendance\, with an entry fee of $100.00 per person with all proceeds going directly to the nonprofits. RSVP today at 100menwhocareyc.com/events.
URL:https://fainsignaturegroup.com/event/100-men-who-care/
LOCATION:Prescott Resort and Conference Center\, 1500 AZ-69\, Prescott\, AZ\, 86301\, United States
ATTACH;FMTTYPE=image/jpeg:https://fainsignaturegroup.com/wp-content/uploads/2024/07/KB-joint-event-graphic-Aug-2024.jpg
ORGANIZER;CN="100 Men Who Care":MAILTO:rfain@fainsignaturegroup.com
END:VEVENT
END:VCALENDAR