BEGIN:VCALENDAR
VERSION:2.0
PRODID:-//Fain Signature Group - ECPv6.15.16//NONSGML v1.0//EN
CALSCALE:GREGORIAN
METHOD:PUBLISH
X-WR-CALNAME:Fain Signature Group
X-ORIGINAL-URL:https://fainsignaturegroup.com
X-WR-CALDESC:Events for Fain Signature Group
REFRESH-INTERVAL;VALUE=DURATION:PT1H
X-Robots-Tag:noindex
X-PUBLISHED-TTL:PT1H
BEGIN:VTIMEZONE
TZID:America/Phoenix
BEGIN:STANDARD
TZOFFSETFROM:-0700
TZOFFSETTO:-0700
TZNAME:MST
DTSTART:20230101T000000
END:STANDARD
END:VTIMEZONE
BEGIN:VEVENT
DTSTART;TZID=America/Phoenix:20240530T180000
DTEND;TZID=America/Phoenix:20240530T180000
DTSTAMP:20260420T134818
CREATED:20240508T210958Z
LAST-MODIFIED:20240509T220615Z
UID:7848-1717092000-1717092000@fainsignaturegroup.com
SUMMARY:100 Men Who Care of Yavapai County 'Shop with A Cop' Fundraiser
DESCRIPTION:In a heartwarming effort to make the holiday season brighter for local children\, the 100 Men Who Care of Yavapai County are excited to announce their next major fundraising event. The beloved gathering aims to bolster the annual December event\, Shop with A Cop\, by raising crucial funds to enable children to enjoy a shopping spree alongside local law enforcement officers. This year’s fundraiser is set to take place at 6 PM with doors opening at 5 PM on May 30th at Espire Sports in Pine Ridge Marketplace (formerly Prescott Gateway Mall)\, located at 3400 Gateway Blvd. \nAttendees can look forward to an evening filled with heavy hors d’oeuvres\, a cash bar\, and the esteemed company of Prescott Police Department\, and other regional partners. These agencies will join forces to ensure this year’s Shop with A Cop event is a resounding success. \nThe 100 Men Who Care event welcomes public attendance\, with an entry fee of $100.00 per person. All proceeds will directly support the Shop with A Cop initiative. “Our goal this year is to raise at least $50\,000 to make Christmas extra special for some deserving children in our community\,” stated Ron Fain\, President of 100 Men Who Care. \nSince its inception in 2019\, 100 Men Who Care has raised over $230\,000\, contributing significantly to local charities and nonprofits. The organization operates on a quarterly basis\, with proceeds from each event being awarded to a charity voted on by its members.
URL:https://fainsignaturegroup.com/event/100-men-who-care-of-yavapai-county-shop-with-a-cop-fundraiser/
LOCATION:Espire Sports\, 3400 Gateway Blvd\, Prescott\, AZ\, 86303\, United States
CATEGORIES:100 Men Who Care
ATTACH;FMTTYPE=image/jpeg:https://fainsignaturegroup.com/wp-content/uploads/2024/05/thumbnail_100-Men-Meme-1-1.jpg
ORGANIZER;CN="100 Men Who Care":MAILTO:rfain@fainsignaturegroup.com
END:VEVENT
END:VCALENDAR