BEGIN:VCALENDAR
VERSION:2.0
PRODID:-//Fain Signature Group - ECPv6.15.16//NONSGML v1.0//EN
CALSCALE:GREGORIAN
METHOD:PUBLISH
X-WR-CALNAME:Fain Signature Group
X-ORIGINAL-URL:https://fainsignaturegroup.com
X-WR-CALDESC:Events for Fain Signature Group
REFRESH-INTERVAL;VALUE=DURATION:PT1H
X-Robots-Tag:noindex
X-PUBLISHED-TTL:PT1H
BEGIN:VTIMEZONE
TZID:America/Phoenix
BEGIN:STANDARD
TZOFFSETFROM:-0700
TZOFFSETTO:-0700
TZNAME:MST
DTSTART:20230101T000000
END:STANDARD
END:VTIMEZONE
BEGIN:VEVENT
DTSTART;TZID=America/Phoenix:20241116T190000
DTEND;TZID=America/Phoenix:20241116T190000
DTSTAMP:20260422T031209
CREATED:20240923T194740Z
LAST-MODIFIED:20240923T194740Z
UID:8124-1731783600-1731783600@fainsignaturegroup.com
SUMMARY:Grand Canyon College Hockey Classic
DESCRIPTION:Grand Canyon College Hockey Classic \nNovember 16\, 2024 \nDon’t miss the opportunity to watch a clash of two nationally ranked titans compete in the 1st Annual Grand Canyon College Hockey Classic. Witness the Lopes battle the Wildcats in a challenging display of speed\, skill\, and physicality. With the program on the rise\, there’s never been a better time to watch GCU Hockey showcase their impressive on-ice talent. \nWHO: See #14 ranked GCU Lopes Hockey go head to head with #20 ranked University of Arizona Wildcats\nWHEN: Saturday\, November 16th\, 2024 – 7:00 PM\nWHERE: Findlay Toyota Center\, Prescott Valley\, AZ \nBOX OFFICE INFORMATION: \nTickets on sale Friday\, September 20th @ 10:00AM\nAdmission: Box Office $22 (online fees will apply)\nYouth (13 and under) 1 Free with Paid Adult Ticket \n**Special offer: One free youth ticket (13 and under) includes a free hot dog and soda with the purchase of 1 paid adult ticket. Limited to the first 600 free youth tickets redeemed. Can ONLY be purchased in person AND in advance at the Findlay Toyota Center box office on or before November 15th at 3:00 PM.
URL:https://fainsignaturegroup.com/event/grand-canyon-college-hockey-classic/
LOCATION:Findlay Toyota Center\, 3201 N. Main St.\, Prescott Valley\, AZ\, 86314\, United States
CATEGORIES:Findlay Toyota Center
ATTACH;FMTTYPE=image/png:https://fainsignaturegroup.com/wp-content/uploads/2024/09/HvYEN.png
ORGANIZER;CN="Findlay Toyota Center":MAILTO:info@findlaytoyotacenter.com
END:VEVENT
END:VCALENDAR