BEGIN:VCALENDAR
VERSION:2.0
PRODID:-//Fain Signature Group - ECPv6.15.16//NONSGML v1.0//EN
CALSCALE:GREGORIAN
METHOD:PUBLISH
X-WR-CALNAME:Fain Signature Group
X-ORIGINAL-URL:https://fainsignaturegroup.com
X-WR-CALDESC:Events for Fain Signature Group
REFRESH-INTERVAL;VALUE=DURATION:PT1H
X-Robots-Tag:noindex
X-PUBLISHED-TTL:PT1H
BEGIN:VTIMEZONE
TZID:America/Phoenix
BEGIN:STANDARD
TZOFFSETFROM:-0700
TZOFFSETTO:-0700
TZNAME:MST
DTSTART:20230101T000000
END:STANDARD
END:VTIMEZONE
BEGIN:VEVENT
DTSTART;TZID=America/Phoenix:20241107T200000
DTEND;TZID=America/Phoenix:20241107T200000
DTSTAMP:20260422T031213
CREATED:20240923T193734Z
LAST-MODIFIED:20240923T193734Z
UID:8117-1731009600-1731009600@fainsignaturegroup.com
SUMMARY:Jo Koy
DESCRIPTION:JO KOY: JUST BEING KOY TOUR \nDATE: Thursday\, November 7th\, 2024\nDOORS: 7:00PM\nCONCERT: 8:00PM \nAs one of today’s premiere stand-up comedians\, Jo Koy has come a long way from his modest beginnings performing in a Las Vegas coffee house. Jo’s uniquely relatable comedy pulls inspiration from his colorful family that has reached all kinds of people and has translated into sold-out arenas around the world. \nIn 2022\, Koy kicked off his Funny Is Funny World Tour by selling-out the Climate Pledge Arena (over 14\,000 tickets) in his hometown of Seattle and ended the tour with a sold-out show at Tacoma Dome (over 19\,000 tickets). Today\, he continues breaking sales records at some of the most prestigious venues around the world including Mall of Asia Arena (Manila\, PH)\, The Forum (Los Angeles)\, Coca-Cola Arena (Dubai)\, ICC Theatre (Sydney\, AU)\, Madison Square Garden (New York City)\, and American Airlines Arena (Dallas) to name a few. In 2017\, Koy broke a record for the most tickets sold by a single artist at 23\,000 tickets and 11 sold-out shows at The Neal S. Blaisdell Concert Hall in Honolulu. In response\, the mayor’s office in Honolulu proclaimed November 24th as “Jo Koy Day.” \nKoy starred in the 2022 Universal Picture film Easter Sunday\, set around a family gathering to celebrate Easter Sunday\, the comedy is based on Jo Koy’s life experiences and stand-up comedy. In 2023\, Koy appeared in Disney’s Haunted Mansion and voiced characters in Netflix’s animated films\, Monkey King and Leo. In 2024\, he was most recently heard voicing the character Monkey King in the Paramount+ film\, The Tiger’s Apprentice. \nIn 2023\, it was announced that he inked a two-special deal with Netflix. The first special was filmed this past November at The Kings Theatre in Brooklyn and will release in the summer of 2024. He’s had 4 highly rated specials including his latest Netflix stand-up special\, Live From The Los Angeles Forum\, which premiered globally on September 2022. The special was follow up to his 2019 Netflix special\, Comin’ In Hot. Overall\, Koy has had six highly rated and successful stand-up specials on Comedy Central and Netflix. In June 2020\, the comedian released his first variety special\, Jo Koy: In His Elements on Netflix in which Koy brings the laughs and beats to Manila\, spotlighting local culture in a one-of-a-kind show featuring Filipino-American comedians\, DJs and B-boys. \nIn 2021\, Koy released his first autobiography\, Mixed Plate: Chronicles of an All-American Combo with Harper Collins Publishers to raved reviews. In this funny and moving memoir\, Koy uncovers the stories behind his stand-up: the conflict\, the drama and the laughter as he struggles to find his place in the entertainment industry\, his home and around the world. \nIn 2019\, Jo Koy reached #1 on the Billboard Charts for his stand-up comedy album\, Live From Seattle\, and in 2018\, he was given the prestigious “Stand-Up Comedian Of The Year” award at the Just For Laughs Comedy Festival in Montreal. \nFor more info on his comedy\, book and tour dates\, please visit: Jokoy.com. \nTICKET INFO\nBOX OFFICE TICKET PRICES: \nStarting at $61.50 \nPrices and seating chart are subject to change. \nHOW TO BUY TICKETS: \nArena Box Office: Monday – Friday 10 am – 3 pm | Online: www.ticketmaster.com | By Phone: 928-772-1819 ext 6060 \nPLEASE NOTE: Additional fees may apply. Online/phone orders will incur additional charges. Ages 24 months and under do not need a ticket if sitting on a lap. For questions about ADA seating options\, please call the arena box office at 928-772-1819 ext 6060. \nVIP PACKAGE \nThe VIP ticket includes the following:\n· One (1) Premium Seat in the first 10 rows\n· One (1) Tote Bag\n· One (1) Exclusive Tour Merchandise Item\n· One (1) Jo Koy Tour poster \nBUCKY’S CASINO SUITE LEVEL\nFor more info on how to upgrade your event experience contact: \nSatish Athelli\nDirector of Corporate Partnerships\nText or Call: 928-458-1611\nEmail: suites@findlaytoyotacenter.com
URL:https://fainsignaturegroup.com/event/jo-koy/
LOCATION:Findlay Toyota Center\, 3201 N. Main St.\, Prescott Valley\, AZ\, 86314\, United States
CATEGORIES:Findlay Toyota Center
ATTACH;FMTTYPE=image/jpeg:https://fainsignaturegroup.com/wp-content/uploads/2024/09/ncQoi.jpg
ORGANIZER;CN="Findlay Toyota Center":MAILTO:info@findlaytoyotacenter.com
END:VEVENT
END:VCALENDAR