BEGIN:VCALENDAR
VERSION:2.0
PRODID:-//Fain Signature Group - ECPv6.15.16//NONSGML v1.0//EN
CALSCALE:GREGORIAN
METHOD:PUBLISH
X-WR-CALNAME:Fain Signature Group
X-ORIGINAL-URL:https://fainsignaturegroup.com
X-WR-CALDESC:Events for Fain Signature Group
REFRESH-INTERVAL;VALUE=DURATION:PT1H
X-Robots-Tag:noindex
X-PUBLISHED-TTL:PT1H
BEGIN:VTIMEZONE
TZID:America/Phoenix
BEGIN:STANDARD
TZOFFSETFROM:-0700
TZOFFSETTO:-0700
TZNAME:MST
DTSTART:20230101T000000
END:STANDARD
END:VTIMEZONE
BEGIN:VEVENT
DTSTART;TZID=America/Phoenix:20241019T173000
DTEND;TZID=America/Phoenix:20241019T190000
DTSTAMP:20260422T031211
CREATED:20240923T192355Z
LAST-MODIFIED:20240923T192355Z
UID:8110-1729359000-1729364400@fainsignaturegroup.com
SUMMARY:AMA EnduroCross Championship
DESCRIPTION:DATE: Saturday\, October 19\, 2024\nDoors: 5:30 PM\nEvent: 7:00 PM \nBox Office Hours: Mon- Fri 10am – 3pm \nYou can keep up with the latest EnduroCross updates via the following channels: \nWebsite: www.endurocross.com\nInstagram: www.instagram.com/enduro_cross\nFacebook: www.facebook.com/EnduroCrossSeries\nBecome an [EX]clusive Fan: www.endurocross.com/exclusive\nTICKET INFO \nBOX OFFICE TICKET PRICES \nTickets start at $37.75 – Tickets go on sale Friday\, March 15th at 10am \nTicket prices increase $5 on the day of the event. \nHOW TO BUY TICKETS: \nArena Box Office: Monday – Friday 10 am – 3 pm | Event Day Noon – 8 pm\nOnline: www.ticketmaster.com \nOnline/Phone orders will incur additional fees. Children 24 months and under sitting on a lap do not need a ticket. For questions about ADA seating options\, please call the arena box office at 928-772-1819 ext 6060. \nBUCKY’S CASINO SUITE LEVEL \nEnjoy this extreme racing event from all angles in a Luxury Suite! For more info contact: \nSatish Athelli\nDirector of Corporate Partnerships\nText or Call: 928-458-1611\nEmail: suites@findlaytoyotacenter.com \nGROUP TICKETS\nGET YOUR GROUP TICKETS TODAY! \nFor More Information & Pricing see the flyer below or Contact: \nJamie Neptune\nPhone: 928-237-4684\nEmail: jamie.neptune@oakviewgroup.com
URL:https://fainsignaturegroup.com/event/ama-endurocross-championship/
LOCATION:Findlay Toyota Center\, 3201 N. Main St.\, Prescott Valley\, AZ\, 86314\, United States
CATEGORIES:Findlay Toyota Center
ATTACH;FMTTYPE=image/png:https://fainsignaturegroup.com/wp-content/uploads/2024/09/xaArl.png
ORGANIZER;CN="Findlay Toyota Center":MAILTO:info@findlaytoyotacenter.com
END:VEVENT
END:VCALENDAR