BEGIN:VCALENDAR
VERSION:2.0
PRODID:-//Fain Signature Group - ECPv6.15.16//NONSGML v1.0//EN
CALSCALE:GREGORIAN
METHOD:PUBLISH
X-WR-CALNAME:Fain Signature Group
X-ORIGINAL-URL:https://fainsignaturegroup.com
X-WR-CALDESC:Events for Fain Signature Group
REFRESH-INTERVAL;VALUE=DURATION:PT1H
X-Robots-Tag:noindex
X-PUBLISHED-TTL:PT1H
BEGIN:VTIMEZONE
TZID:America/Phoenix
BEGIN:STANDARD
TZOFFSETFROM:-0700
TZOFFSETTO:-0700
TZNAME:MST
DTSTART:20230101T000000
END:STANDARD
END:VTIMEZONE
BEGIN:VEVENT
DTSTART;TZID=America/Phoenix:20240508T193000
DTEND;TZID=America/Phoenix:20240508T193000
DTSTAMP:20260422T133334
CREATED:20240124T194603Z
LAST-MODIFIED:20240124T194603Z
UID:7145-1715196600-1715196600@fainsignaturegroup.com
SUMMARY:Celtic Woman
DESCRIPTION:Date: Wednesday\, May 8th\, 2024\nDoors open: 6:30 pm\nPerformance starts: 7:30 pm \nOn the heels of the successful “Postcards From Ireland\,” Celtic Woman will carry on its legacy of uplifting performances packed with breath-taking harmonies and instrumental virtuosity. The Celtic Woman 20th Anniversary Tour will be delighting audiences with its fresh blend of traditional and contemporary Irish music that echoes Ireland’s rich musical and cultural heritage\, while reflecting the vibrant spirit of modern Ireland. \nIn the 20 years since the global musical sensation’s debut\, Celtic Woman has emerged as both a formidable musical presence and a genuine cultural phenomenon. The group’s albums and DVD releases have been consistent multi-platinum best-sellers and its concert tours continue to touch the hearts of a devoted audience that spans the globe. Both an accomplished recording ensemble and a world-class performing collective\, Celtic Woman introduces some of Ireland’s most talented singers and musicians to the world stage. \nThe group’s repertoire encompasses Irish classics\, contemporary songs\, classical favorites and stirring originals. The lineup of performers has evolved in the years since the group’s inception\, but the signature sound of Celtic Woman has remained consistent\, showcasing the members’ individual and collaborative talents. \nFor more information about the show visit: https://www.celticwoman.com/
URL:https://fainsignaturegroup.com/event/celtic-woman/
LOCATION:Findlay Toyota Center\, 3201 N. Main St.\, Prescott Valley\, AZ\, 86314\, United States
CATEGORIES:Findlay Toyota Center
ATTACH;FMTTYPE=image/jpeg:https://fainsignaturegroup.com/wp-content/uploads/2024/01/lGUD6.jpg
ORGANIZER;CN="Findlay Toyota Center":MAILTO:info@findlaytoyotacenter.com
END:VEVENT
END:VCALENDAR