BEGIN:VCALENDAR
VERSION:2.0
PRODID:-//Fain Signature Group - ECPv6.15.16//NONSGML v1.0//EN
CALSCALE:GREGORIAN
METHOD:PUBLISH
X-WR-CALNAME:Fain Signature Group
X-ORIGINAL-URL:https://fainsignaturegroup.com
X-WR-CALDESC:Events for Fain Signature Group
REFRESH-INTERVAL;VALUE=DURATION:PT1H
X-Robots-Tag:noindex
X-PUBLISHED-TTL:PT1H
BEGIN:VTIMEZONE
TZID:America/Phoenix
BEGIN:STANDARD
TZOFFSETFROM:-0700
TZOFFSETTO:-0700
TZNAME:MST
DTSTART:20230101T000000
END:STANDARD
END:VTIMEZONE
BEGIN:VEVENT
DTSTART;TZID=America/Phoenix:20240302T130000
DTEND;TZID=America/Phoenix:20240302T130000
DTSTAMP:20260422T183304
CREATED:20240124T181746Z
LAST-MODIFIED:20240124T181806Z
UID:7130-1709384400-1709384400@fainsignaturegroup.com
SUMMARY:The Harlem Globetrotters
DESCRIPTION:HARLEM GLOBETROTTERS 2024 WORLD TOUR – PRESENTED BY JERSEY MIKE’S SUBS \nDATE: Saturday\, March 2\, 2024\, 2:00PM \nMagic Pass Event 12:30PM – 1:00PM\nMain Doors Open: 1:00PM\nDon’t miss your chance to be a part of the world-famous Harlem Globetrotters global tour as they take the court with moments of extreme basketball innovation and unparalleled fan FUN. See the Globetrotter stars LIVE as they DRIBBLE\, SPIN and DUNK their way past their relentless rivals\, the Washington Generals! You’ll be amazed by new levels of mind-blowing trick shots\, expert ball-handling skills\, and BIG LAUGHS with NEW unrivaled opportunities for pre-game\, post-game and in-game fan engagement. \nFAN IMMERSION LIKE NEVER BEFORE \nSee Hammer\, TNT\, Bulldog\, Cheese\, Torch\, Hot Shot\, Jet\, Wham and Thunder – just to name a few – as they run circles around the Washington Generals ON THE COURT and bring the HYPE TO THE CROWD. YOU might even find yourself mid-court as part of the ALL-NEW\, FAN-FILLED Halftime Skills Showcase! \nFor the latest news and information about the Harlem Globetrotters\, visit the Globetrotters’ official Web site: www.harlemglobetrotters.com and follow them on Twitter @Globies. You don’t want to miss this great family event! Get your tickets now! \nEXCLUSIVE EXPERIENCES! See below to find out how you can upgrade your experience for an unforgettable event! Upgrades include the pre-show Magic Pass\, Globetrotters Bench Seats\, and Celebrity Court Passes.
URL:https://fainsignaturegroup.com/event/the-harlem-globetrotters/
LOCATION:Findlay Toyota Center\, 3201 N. Main St.\, Prescott Valley\, AZ\, 86314\, United States
CATEGORIES:Findlay Toyota Center
ATTACH;FMTTYPE=image/jpeg:https://fainsignaturegroup.com/wp-content/uploads/2024/01/XfBXe.jpg
ORGANIZER;CN="Findlay Toyota Center":MAILTO:info@findlaytoyotacenter.com
END:VEVENT
END:VCALENDAR