BEGIN:VCALENDAR
VERSION:2.0
PRODID:-//Fain Signature Group - ECPv6.15.16//NONSGML v1.0//EN
CALSCALE:GREGORIAN
METHOD:PUBLISH
X-WR-CALNAME:Fain Signature Group
X-ORIGINAL-URL:https://fainsignaturegroup.com
X-WR-CALDESC:Events for Fain Signature Group
REFRESH-INTERVAL;VALUE=DURATION:PT1H
X-Robots-Tag:noindex
X-PUBLISHED-TTL:PT1H
BEGIN:VTIMEZONE
TZID:America/Phoenix
BEGIN:STANDARD
TZOFFSETFROM:-0700
TZOFFSETTO:-0700
TZNAME:MST
DTSTART:20230101T000000
END:STANDARD
END:VTIMEZONE
BEGIN:VEVENT
DTSTART;TZID=America/Phoenix:20240209T200000
DTEND;TZID=America/Phoenix:20240209T200000
DTSTAMP:20260422T223105
CREATED:20240124T175932Z
LAST-MODIFIED:20240124T210014Z
UID:7124-1707508800-1707508800@fainsignaturegroup.com
SUMMARY:Clint Black Concert
DESCRIPTION:DATE: FRIDAY\, FEBRUARY 9th 2024\nDOORS: 7:00 PM\nCONCERT: 8:00 PM \nCountry legend Clint Black will be at the Findlay Toyota Center with special guests Lisa Hartman Black and Lily Pearl Black on Friday\, February 9\, 2024. Tickets go on sale Friday\, September 22 at 10 a.m. \nThis is one of a limited special event series including seven shows featuring his wife\, actress and singer Lisa Hartman Black\, and his daughter\, recording artist Lily Pearl Black\, as special guests. \n“It’s a very special time for me when my wife and daughter join me on stage\,” explained Black. “The crowds have been loving it and we’re all excited to have them back on the tour.” \nFor more info about Clint Black\, please go to his official website clintblack.com \nBUY TICKETS NOW!
URL:https://fainsignaturegroup.com/event/clint-black-concert/
LOCATION:Findlay Toyota Center\, 3201 N. Main St.\, Prescott Valley\, AZ\, 86314\, United States
CATEGORIES:Findlay Toyota Center
ATTACH;FMTTYPE=image/jpeg:https://fainsignaturegroup.com/wp-content/uploads/2024/01/62acV.jpg
ORGANIZER;CN="Findlay Toyota Center":MAILTO:info@findlaytoyotacenter.com
END:VEVENT
END:VCALENDAR