BEGIN:VCALENDAR
VERSION:2.0
PRODID:-//Fain Signature Group - ECPv6.15.16//NONSGML v1.0//EN
CALSCALE:GREGORIAN
METHOD:PUBLISH
X-WR-CALNAME:Fain Signature Group
X-ORIGINAL-URL:https://fainsignaturegroup.com
X-WR-CALDESC:Events for Fain Signature Group
REFRESH-INTERVAL;VALUE=DURATION:PT1H
X-Robots-Tag:noindex
X-PUBLISHED-TTL:PT1H
BEGIN:VTIMEZONE
TZID:America/Phoenix
BEGIN:STANDARD
TZOFFSETFROM:-0700
TZOFFSETTO:-0700
TZNAME:MST
DTSTART:20230101T000000
END:STANDARD
END:VTIMEZONE
BEGIN:VEVENT
DTSTART;TZID=America/Phoenix:20241130T140000
DTEND;TZID=America/Phoenix:20241130T190000
DTSTAMP:20260422T222604
CREATED:20240124T172456Z
LAST-MODIFIED:20241119T161712Z
UID:7112-1732975200-1732993200@fainsignaturegroup.com
SUMMARY:Christmas at Town Center
DESCRIPTION:The second annual FREE event will take place on November 30th from 2:00 p.m. to 7:00 p.m. with the tree lighting taking place at 6:00 p.m. \nYou won’t want to miss out on the events taking place all day at Christmas at Town Center leading up to the official tree lighting. Come take photos with with Santa and Mrs. Clause from 2:00 p.m. to 5:00 p.m. \nTake the kiddos to participate in Reindeer Games and craft-making in the Turf Park. Get some gifts at the seasonal Christmas Market and make up for any missed Black Friday shopping. \nWatch special performances from the Bradshaw Mountain High School Bands and others. Enjoy hot cocoa\, apple cider\, snacks\, and more! \n  \nRegister to be a vendor here: Vendor Registration.\n  \nSchedule\n2:00 p.m. Christmas at Town Center Opens \n2:00 p.m. – 5:00 p.m. Photos with Santa & Mrs. Clause \n6:00 p.m. Tree Lighting \n  \nRaffle Tickets\n1 for $1\n6 for $6\n15 for $10\n30 for $20 \n  \nChristmas at Town Center Raffle – Contest Rules\n1. Eligibility:\n Participants must be 18 years or older to enter.\n Only attendees of the event are eligible to win; do not need to present to win.\n2. Raffle Tickets:\n Participants can purchase multiple raffle tickets.\n Print your name and phone number on each ticket and place in the bucket for the prize you would like to win\n3. Raffle Draw:\n The raffle draw will take place at 7:00pm.\n Winners will be drawn randomly from all eligible raffle tickets.\n Winners will be notified on Monday\, December 2nd by COB.\n4. Claiming Prizes:\n Winners that are contacted will be informed to pick up their prizes at an agreed upon date and time at our Main Office located at 3001 N. Main Street Suite 2B.\n If a prize is not claimed at that agreed upon time\, another raffle ticket will be randomly selected for a replacement winner.\n5. Conduct:\n Participants are expected to conduct themselves in a respectful manner.\n Any form of cheating\, harassment\, or misconduct will result in disqualification from the raffle.\n6. Final Decision:\n The decision of the event organizers regarding the raffle is final.\n No substitutions\, exchanges\, or cash alternatives will be provided for the prize.\n7. Disclaimer:\n By participating in the raffle\, participants agree to release and hold harmless the Fain Family Foundation and all associated entities from any liability arising from participation or prize acceptance.\n8. Amendments:\n The Fain Family Foundation reserves the right to amend or change these rules at any time. Participants will be informed of any changes as soon as they occur. \n  \n \n  \nThank you to our partners and sponsors of this event!\n  \n \n \n \n \n  \n \n \n \n \n  \nOur Presenting Sponsor\nThe Fain Family Foundation is a philanthropic organization deeply rooted in our history of always giving back and taking care of others. From gifts of land to create a town\, to regional events\, the Fain Family Foundation focuses on community needs and making a great life for all.
URL:https://fainsignaturegroup.com/event/christmas-at-town-center/
LOCATION:Prescott Valley Town Center\, 3001 N Main St\, Prescott Valley\, AZ\, 86314\, United States
CATEGORIES:Prescott Valley Town Center
ATTACH;FMTTYPE=image/jpeg:https://fainsignaturegroup.com/wp-content/uploads/2024/01/FSG_CATC2024_LogoSocial-1.jpg
ORGANIZER;CN="Fain Signature Group":MAILTO:PVTCevents@gmail.com
END:VEVENT
END:VCALENDAR