BEGIN:VCALENDAR
VERSION:2.0
PRODID:-//Fain Signature Group - ECPv6.15.16//NONSGML v1.0//EN
CALSCALE:GREGORIAN
METHOD:PUBLISH
X-ORIGINAL-URL:https://fainsignaturegroup.com
X-WR-CALDESC:Events for Fain Signature Group
REFRESH-INTERVAL;VALUE=DURATION:PT1H
X-Robots-Tag:noindex
X-PUBLISHED-TTL:PT1H
BEGIN:VTIMEZONE
TZID:America/Phoenix
BEGIN:STANDARD
TZOFFSETFROM:-0700
TZOFFSETTO:-0700
TZNAME:MST
DTSTART:20230101T000000
END:STANDARD
END:VTIMEZONE
BEGIN:VEVENT
DTSTART;TZID=America/Phoenix:20240403T170000
DTEND;TZID=America/Phoenix:20240403T190000
DTSTAMP:20260421T045605
CREATED:20240320T225703Z
LAST-MODIFIED:20240328T190245Z
UID:7579-1712163600-1712170800@fainsignaturegroup.com
SUMMARY:Easter Kid's Night
DESCRIPTION:Head over to Prescott Valley Buffalo Wild Wings for an epic Easter Kid’s night. From 5PM-7PM on Wednesday\, April 3rd on the patio\, Hank the Buffalo will be hiding Easter eggs to find. Bring your Easter egg basket to fill up. One GOLDEN Easter Egg will be filled with a super special surprise!
URL:https://fainsignaturegroup.com/event/easter-kids-night/
LOCATION:Buffalo Wild Wings\, 2985 Centre Ct\, Prescott Valley\, AZ\, 86314\, United States
CATEGORIES:Prescott Valley Town Center,Tenant Events
ATTACH;FMTTYPE=application/pdf:https://fainsignaturegroup.com/wp-content/uploads/2024/03/PV-Easter-Fun-Flyer-1.pdf
ORGANIZER;CN="Buffalo Wild Wings":MAILTO:prescott@lancasterwings.com
END:VEVENT
END:VCALENDAR