BEGIN:VCALENDAR
VERSION:2.0
PRODID:-//Fain Signature Group - ECPv6.15.16//NONSGML v1.0//EN
CALSCALE:GREGORIAN
METHOD:PUBLISH
X-WR-CALNAME:Fain Signature Group
X-ORIGINAL-URL:https://fainsignaturegroup.com
X-WR-CALDESC:Events for Fain Signature Group
REFRESH-INTERVAL;VALUE=DURATION:PT1H
X-Robots-Tag:noindex
X-PUBLISHED-TTL:PT1H
BEGIN:VTIMEZONE
TZID:America/Phoenix
BEGIN:STANDARD
TZOFFSETFROM:-0700
TZOFFSETTO:-0700
TZNAME:MST
DTSTART:20230101T000000
END:STANDARD
END:VTIMEZONE
BEGIN:VEVENT
DTSTART;TZID=America/Phoenix:20240622T080000
DTEND;TZID=America/Phoenix:20240623T170000
DTSTAMP:20260423T005807
CREATED:20240621T183333Z
LAST-MODIFIED:20240621T183333Z
UID:7944-1719043200-1719162000@fainsignaturegroup.com
SUMMARY:Mattress America 4th of July Sale
DESCRIPTION:
URL:https://fainsignaturegroup.com/event/mattress-america-4th-of-july-sale/
LOCATION:Mattress America\, 3298 N Glassford Hill Rd suite 101-102\, Prescott Valley\, AZ\, 86314\, United States
CATEGORIES:Tenant Events
ATTACH;FMTTYPE=image/png:https://fainsignaturegroup.com/wp-content/uploads/2024/06/Screenshot-2024-06-21-1131032.png
END:VEVENT
END:VCALENDAR