BEGIN:VCALENDAR
VERSION:2.0
PRODID:-//Fain Signature Group - ECPv6.15.16//NONSGML v1.0//EN
CALSCALE:GREGORIAN
METHOD:PUBLISH
X-WR-CALNAME:Fain Signature Group
X-ORIGINAL-URL:https://fainsignaturegroup.com
X-WR-CALDESC:Events for Fain Signature Group
REFRESH-INTERVAL;VALUE=DURATION:PT1H
X-Robots-Tag:noindex
X-PUBLISHED-TTL:PT1H
BEGIN:VTIMEZONE
TZID:America/Phoenix
BEGIN:STANDARD
TZOFFSETFROM:-0700
TZOFFSETTO:-0700
TZNAME:MST
DTSTART:20230101T000000
END:STANDARD
END:VTIMEZONE
BEGIN:VEVENT
DTSTART;VALUE=DATE:20240406
DTEND;VALUE=DATE:20240414
DTSTAMP:20260423T043647
CREATED:20240320T155057Z
LAST-MODIFIED:20240320T155057Z
UID:7574-1712361600-1713052799@fainsignaturegroup.com
SUMMARY:Afterglow Jewelers Anniversary Event
DESCRIPTION:Come join Afterglow Jewelers as they celebrate 1 year as Prescott Valley’s premier jeweler! Enjoy beverages and treats\, special deals on jewelry and art\, a free swag bag if you are one of the first 25 guests\, and register for freebies!
URL:https://fainsignaturegroup.com/event/afterglow-jewelers-anniversary-event/
LOCATION:Afterglow Jewelers\, 7025 Florentine Rd #106\, Prescott Valley\, AZ\, 86314\, United States
CATEGORIES:Tenant Events
ATTACH;FMTTYPE=image/png:https://fainsignaturegroup.com/wp-content/uploads/2024/03/My-project-3.png
ORGANIZER;CN="Afterglow Jewelers":MAILTO:MJB@afterglowjewelers.com
END:VEVENT
END:VCALENDAR