BEGIN:VCALENDAR
VERSION:2.0
PRODID:-//Fain Signature Group - ECPv6.15.16//NONSGML v1.0//EN
CALSCALE:GREGORIAN
METHOD:PUBLISH
X-ORIGINAL-URL:https://fainsignaturegroup.com
X-WR-CALDESC:Events for Fain Signature Group
REFRESH-INTERVAL;VALUE=DURATION:PT1H
X-Robots-Tag:noindex
X-PUBLISHED-TTL:PT1H
BEGIN:VTIMEZONE
TZID:America/Phoenix
BEGIN:STANDARD
TZOFFSETFROM:-0700
TZOFFSETTO:-0700
TZNAME:MST
DTSTART:20230101T000000
END:STANDARD
END:VTIMEZONE
BEGIN:VEVENT
DTSTART;TZID=America/Phoenix:20240511T100000
DTEND;TZID=America/Phoenix:20240511T170000
DTSTAMP:20260420T215808
CREATED:20240123T185139Z
LAST-MODIFIED:20240221T174043Z
UID:7104-1715421600-1715446800@fainsignaturegroup.com
SUMMARY:SMARTGirls Super Saturday Sale
DESCRIPTION:SMARTGirls Resale Fashion has their Super Saturday Sale the 2nd and 4th Saturday of every month. The sale includes items as low as $3 as well as items marked 50% and 75% off! Head on over the SMARTGirls Resale Fashion to get some great deals on new and gently used clothing. You can view more information at SMARTGirlsFashion.com. \n  \nDon’t forget! SMARTGirls has moved to their new location in Downtown Prescott Valley at 7025 Florentine Dr Suite 107. Now located in the Fry’s Marketplace Center beside Ciao Bella.
URL:https://fainsignaturegroup.com/event/smartgirls-super-saturday-sale-8/
LOCATION:SMARTGirls Resale Fashion\, 7025 Florentine Dr Suite 107\, Prescott Valley\, AZ\, 86314\, United States
CATEGORIES:Tenant Events
ATTACH;FMTTYPE=image/jpeg:https://fainsignaturegroup.com/wp-content/uploads/2024/01/processed-1372A73F-A5F5-42F5-B8DD-FCFA89133D63.jpeg
END:VEVENT
END:VCALENDAR