BEGIN:VCALENDAR
VERSION:2.0
PRODID:-//Fain Signature Group - ECPv6.15.16//NONSGML v1.0//EN
CALSCALE:GREGORIAN
METHOD:PUBLISH
X-WR-CALNAME:Fain Signature Group
X-ORIGINAL-URL:https://fainsignaturegroup.com
X-WR-CALDESC:Events for Fain Signature Group
REFRESH-INTERVAL;VALUE=DURATION:PT1H
X-Robots-Tag:noindex
X-PUBLISHED-TTL:PT1H
BEGIN:VTIMEZONE
TZID:America/Phoenix
BEGIN:STANDARD
TZOFFSETFROM:-0700
TZOFFSETTO:-0700
TZNAME:MST
DTSTART:20230101T000000
END:STANDARD
END:VTIMEZONE
BEGIN:VEVENT
DTSTART;TZID=America/Phoenix:20240507T180000
DTEND;TZID=America/Phoenix:20240507T180000
DTSTAMP:20260420T164027
CREATED:20240124T183619Z
LAST-MODIFIED:20240124T183619Z
UID:7142-1715104800-1715104800@fainsignaturegroup.com
SUMMARY:Blippi: The Wonderful World Tour
DESCRIPTION:DATE: May 7\, 2024\nDOORS: 5:00PM\nSHOW: 6:00PM \nBlippi is coming to Prescott Valley for the ultimate curiosity adventure in Blippi: The Wonderful World Tour! \nSo\, come on! Dance\, sing\, and learn with Blippi and special guest Meekah as they discover what makes different cities unique and special. Will there be monster trucks\, excavators\, and garbage trucks galore? You bet! So get ready to shake those wiggles out and OJ Twist your way through this brand-new musical party!
URL:https://fainsignaturegroup.com/event/blippi-the-wonderful-world-tour/
LOCATION:Findlay Toyota Center\, 3201 N. Main St.\, Prescott Valley\, AZ\, 86314\, United States
CATEGORIES:Findlay Toyota Center
ATTACH;FMTTYPE=image/jpeg:https://fainsignaturegroup.com/wp-content/uploads/2024/01/a4G5M.jpg
ORGANIZER;CN="Findlay Toyota Center":MAILTO:info@findlaytoyotacenter.com
END:VEVENT
END:VCALENDAR