BEGIN:VCALENDAR
VERSION:2.0
PRODID:-//Fain Signature Group - ECPv6.15.16//NONSGML v1.0//EN
CALSCALE:GREGORIAN
METHOD:PUBLISH
X-WR-CALNAME:Fain Signature Group
X-ORIGINAL-URL:https://fainsignaturegroup.com
X-WR-CALDESC:Events for Fain Signature Group
REFRESH-INTERVAL;VALUE=DURATION:PT1H
X-Robots-Tag:noindex
X-PUBLISHED-TTL:PT1H
BEGIN:VTIMEZONE
TZID:America/Phoenix
BEGIN:STANDARD
TZOFFSETFROM:-0700
TZOFFSETTO:-0700
TZNAME:MST
DTSTART:20240101T000000
END:STANDARD
END:VTIMEZONE
BEGIN:VEVENT
DTSTART;TZID=America/Phoenix:20250514T170000
DTEND;TZID=America/Phoenix:20250514T190000
DTSTAMP:20260422T151308
CREATED:20250507T185119Z
LAST-MODIFIED:20250513T173154Z
UID:8707-1747242000-1747249200@fainsignaturegroup.com
SUMMARY:100 Men Who Care May 14
DESCRIPTION:100 Men Who Care of Yavapai County invites you to a memorable evening of community\, connection\, and giving at their next event on May 14\, 2025\, at the Prescott Rodeo Grounds. This inspiring night brings together men from across the community to support local non-profits\, raise essential funds\, and create lasting change. If you’re looking for a way to give back in a meaningful and immediate way\, this event is for you. \n \nA Mission to Support Local Charities\n100 Men Who Care Yavapai County is dedicated to uplifting local non-profit organizations that serve the community every day. Their mission is simple yet powerful—provide these charities with much-needed financial support\, increased awareness\, and valuable connections to individuals committed to making a difference. \nAt each quarterly event\, attendees contribute a $100 donation\, which is pooled together and awarded to a charity selected by vote during the gathering. This collective effort not only raises significant funds but also highlights the vital work being done by non-profits throughout the region. \nWhat to Expect on May 14\, 2025\nThis upcoming event promises to be an evening of impact and inspiration. Held at the Prescott Rodeo Grounds\, 531 Fairgrounds Ave\, Prescott\, AZ 86305\, doors will open at 5:00 pm\, with the event officially kicking off at 6:00 pm. \n \nAttendees will hear compelling presentations from non-profits Groom Creek Firefighters Association\, Skull Valley Fire\, and Walker Fire. \nTo join this incredible night of giving\, register today at 100menwhocareyc.com. \nDon’t miss your chance to be part of an epic evening of philanthropy\, networking\, and positive change. Join 100 Men Who Care on May 14 and help make a real difference in our community! \nAbout 100 Men Who Care of Yavapai County\nFounded in 2019\, 100 Men Who Care is a charitable organization focused on supporting local charities and nonprofits through fundraising and awareness. Committed to making a tangible difference in the community\, the group holds quarterly events where members vote on a local charity to support with the event’s proceeds. To date\, the organization has raised over $350\,000\, demonstrating the power of community and care in action. \nFor more information\, contact: Ron Fain at ron@fainsignaturegroup.com
URL:https://fainsignaturegroup.com/event/100-men-who-care-may-14/
LOCATION:Prescott Rodeo Grounds\, 531 Fairgrounds Ave\, Prescott\, AZ\, 86305\, United States
CATEGORIES:100 Men Who Care
ATTACH;FMTTYPE=image/jpeg:https://fainsignaturegroup.com/wp-content/uploads/2025/05/May-14-2025_with-sponsors_revised-1.jpg
ORGANIZER;CN="100 Men Who Care":MAILTO:rfain@fainsignaturegroup.com
END:VEVENT
END:VCALENDAR