BEGIN:VCALENDAR
VERSION:2.0
PRODID:-//Fain Signature Group - ECPv6.15.16//NONSGML v1.0//EN
CALSCALE:GREGORIAN
METHOD:PUBLISH
X-ORIGINAL-URL:https://fainsignaturegroup.com
X-WR-CALDESC:Events for Fain Signature Group
REFRESH-INTERVAL;VALUE=DURATION:PT1H
X-Robots-Tag:noindex
X-PUBLISHED-TTL:PT1H
BEGIN:VTIMEZONE
TZID:America/Phoenix
BEGIN:STANDARD
TZOFFSETFROM:-0700
TZOFFSETTO:-0700
TZNAME:MST
DTSTART:20250101T000000
END:STANDARD
END:VTIMEZONE
BEGIN:VEVENT
DTSTART;TZID=America/Phoenix:20260520T180000
DTEND;TZID=America/Phoenix:20260520T200000
DTSTAMP:20260422T151616
CREATED:20260422T165001Z
LAST-MODIFIED:20260422T165347Z
UID:9326-1779300000-1779307200@fainsignaturegroup.com
SUMMARY:100 Men Who Care Prescott Fundraiser
DESCRIPTION:100 Men Who Care of Yavapai County is inviting the community to its next charitable giving event on May 20\, 2026\, at the Rodeo Grounds in the Mackin Building in Prescott. \nThe event will bring together local residents who want to support nonprofits making a difference across Yavapai County while learning more about the organizations serving the region. \nSupporting Local Nonprofits\nThe mission of 100 Men Who Care is simple: bring people together to support local nonprofits through collective giving\, raise awareness for their work\, and strengthen the community. \nAt each event\, attendees donate $100\, and those contributions are combined to create a meaningful gift for participating nonprofits. Guests also have the opportunity to hear directly from each organization and to support causes that matter locally. \nTo date\, 100 Men Who Care of Yavapai County has raised $435\,000 to help those in need\, reflecting the group’s continued commitment to making a measurable impact in the community. \nPresenting Nonprofits\nThis May event will feature presentations from Sharlot Hall Museum\, Prescott Frontier Days Foundation\, Museum of Indigenous People\, and Western Heritage Center on Historic Whiskey Row. \nEach nonprofit will have the opportunity to share its mission\, accomplishments\, and current needs with attendees. \nEvent Details\nDate: May 20\, 2026\nDoors Open: 5 p.m.\nEvent Starts: 6 p.m.\nLocation: Rodeo Grounds\, 840 Rodeo Dr.\, Mackin Building #D\, Prescott\, AZ 86305 \n \nRSVP Today\nCommunity members interested in attending can RSVP at 100menwhocareyc.com/events. \nThe evening offers a chance to connect with others\, learn more about organizations preserving history and culture in the area\, and be part of a night centered on giving back. \nThank You to the Sponsors\nSponsors for the event include Allied Electric\, Heating\, Air Conditioning\, Prescott Frontier Days Inc.\, and Blushing Cactus Photography. \nTheir support helps make the event possible and highlights the collaborative spirit behind local philanthropy. \nAbout 100 Men Who Care of Yavapai County\n100 Men Who Care of Yavapai County brings people together through quarterly events that support local nonprofits and encourage direct community involvement. By pooling donations and spotlighting area organizations\, the group continues to create opportunities for residents to make a meaningful local impact.
URL:https://fainsignaturegroup.com/event/100-men-who-care-prescott-fundraiser/
LOCATION:Prescott Rodeo Grounds\, 531 Fairgrounds Ave\, Prescott\, AZ\, 86305\, United States
CATEGORIES:100 Men Who Care
ATTACH;FMTTYPE=image/jpeg:https://fainsignaturegroup.com/wp-content/uploads/2026/04/673288351_1343359801300141_5277483873123488801_n.jpg
ORGANIZER;CN="100 Men Who Care":MAILTO:rfain@fainsignaturegroup.com
END:VEVENT
BEGIN:VEVENT
DTSTART;VALUE=DATE:20260627
DTEND;VALUE=DATE:20260628
DTSTAMP:20260422T151616
CREATED:20251112T181814Z
LAST-MODIFIED:20251112T203600Z
UID:9120-1782518400-1782604799@fainsignaturegroup.com
SUMMARY:Summer Music Festival
DESCRIPTION:Enjoy a full day of live music from multiple bands\, delicious eats from local food trucks\, and unique finds from community vendors at this summer music festival.
URL:https://fainsignaturegroup.com/event/summer-music-festival-2/
LOCATION:AZ
END:VEVENT
BEGIN:VEVENT
DTSTART;VALUE=DATE:20260731
DTEND;VALUE=DATE:20260801
DTSTAMP:20260422T151616
CREATED:20251112T181934Z
LAST-MODIFIED:20260128T185516Z
UID:9124-1785456000-1785542399@fainsignaturegroup.com
SUMMARY:Summer Concert Finale
DESCRIPTION:Celebrate the grand finale of the summer concert series with one last night of live music and community vibes under the stars. \nMusic Line Up:\n\n6:30 – 9:00 PM | Well Dressed Wolves\n\nStay tuned as more info is added!
URL:https://fainsignaturegroup.com/event/summer-concert-finale/
LOCATION:AZ
END:VEVENT
BEGIN:VEVENT
DTSTART;VALUE=DATE:20260926
DTEND;VALUE=DATE:20260927
DTSTAMP:20260422T151616
CREATED:20251112T182130Z
LAST-MODIFIED:20251112T203651Z
UID:9127-1790380800-1790467199@fainsignaturegroup.com
SUMMARY:Forest of Shadows
DESCRIPTION:Step into a hauntingly immersive realm beneath the trees\, where shadows stir\, creatures awaken\, and the forest itself comes alive.
URL:https://fainsignaturegroup.com/event/forest-of-shadows-2/
LOCATION:AZ
END:VEVENT
BEGIN:VEVENT
DTSTART;VALUE=DATE:20261010
DTEND;VALUE=DATE:20261011
DTSTAMP:20260422T151616
CREATED:20251112T182228Z
LAST-MODIFIED:20251211T213353Z
UID:9129-1791590400-1791676799@fainsignaturegroup.com
SUMMARY:Chili Cook-off
DESCRIPTION:Spice up your day at this fun\, festive Chili Cook Off featuring delicious homemade chili\, live music\, and local vendors.
URL:https://fainsignaturegroup.com/event/chili-cook-off/
LOCATION:AZ
END:VEVENT
BEGIN:VEVENT
DTSTART;VALUE=DATE:20261101
DTEND;VALUE=DATE:20261102
DTSTAMP:20260422T151616
CREATED:20251112T182319Z
LAST-MODIFIED:20251112T203725Z
UID:9131-1793491200-1793577599@fainsignaturegroup.com
SUMMARY:Dia de los Muertos
DESCRIPTION:Experience the magic of Dia de los Muertos with an immersive celebration featuring traditional food\, vibrant vendors\, a lively parade\, an ofrenda contest\, and much more!
URL:https://fainsignaturegroup.com/event/dia-de-los-muertos-2/
LOCATION:AZ
END:VEVENT
BEGIN:VEVENT
DTSTART;VALUE=DATE:20261128
DTEND;VALUE=DATE:20261129
DTSTAMP:20260422T151616
CREATED:20251112T182412Z
LAST-MODIFIED:20251112T203745Z
UID:9132-1795824000-1795910399@fainsignaturegroup.com
SUMMARY:Christmas at Town Center
DESCRIPTION:Celebrate Christmas at Town Center with Buddy the Elf\, photos with Mr. and Mrs. Claus\, a festive town market\, and a dazzling tree lighting ceremony!
URL:https://fainsignaturegroup.com/event/christmas-at-town-center-3/
LOCATION:AZ
END:VEVENT
END:VCALENDAR