BEGIN:VCALENDAR
VERSION:2.0
PRODID:-//Fain Signature Group - ECPv6.15.16//NONSGML v1.0//EN
CALSCALE:GREGORIAN
METHOD:PUBLISH
X-WR-CALNAME:Fain Signature Group
X-ORIGINAL-URL:https://fainsignaturegroup.com
X-WR-CALDESC:Events for Fain Signature Group
REFRESH-INTERVAL;VALUE=DURATION:PT1H
X-Robots-Tag:noindex
X-PUBLISHED-TTL:PT1H
BEGIN:VTIMEZONE
TZID:America/Phoenix
BEGIN:STANDARD
TZOFFSETFROM:-0700
TZOFFSETTO:-0700
TZNAME:MST
DTSTART:20230101T000000
END:STANDARD
END:VTIMEZONE
BEGIN:VEVENT
DTSTART;TZID=America/Phoenix:20240516T190000
DTEND;TZID=America/Phoenix:20240516T210000
DTSTAMP:20260424T182131
CREATED:20240410T165931Z
LAST-MODIFIED:20240410T165931Z
UID:7729-1715886000-1715893200@fainsignaturegroup.com
SUMMARY:Live Music at Buffalo Wild Wings
DESCRIPTION:Buffalo Wild Wings presents live music with Sky Daddy in May. Join BWW’s on May 2nd\, May 16th\, and May 30th from 7PM-9PM to enjoy dinner with a show! Buffalo Wild Wings is located in the Prescott Valley Town Center at 2985 Centre Ct\, Prescott Valley\, AZ.
URL:https://fainsignaturegroup.com/event/live-music-at-buffalo-wild-wings-2/
LOCATION:Buffalo Wild Wings\, 2985 Centre Ct\, Prescott Valley\, AZ\, 86314\, United States
CATEGORIES:Prescott Valley Town Center,Tenant Events
ATTACH;FMTTYPE=image/png:https://fainsignaturegroup.com/wp-content/uploads/2024/04/Spring-2024-Live-Music-in-PV-Sky-Daddy-Flyer-2.png
ORGANIZER;CN="Buffalo Wild Wings":MAILTO:prescott@lancasterwings.com
END:VEVENT
BEGIN:VEVENT
DTSTART;TZID=America/Phoenix:20240512T100000
DTEND;TZID=America/Phoenix:20240512T150000
DTSTAMP:20260424T182131
CREATED:20240215T231320Z
LAST-MODIFIED:20240419T181330Z
UID:7418-1715508000-1715526000@fainsignaturegroup.com
SUMMARY:Prescott Valley Community Market
DESCRIPTION:The Prescott Valley Community Market comes to life through the local small business merchants that are presented every Sunday from 10:00AM – 3:00PM in the Prescott Valley Town Center in front of Harkins Theatres. The community event is FREE to the public. \nVendor spaces start at $25/day for a 10 x 10 space. You can share a space with a friend for $35/day. Food truck spaces are $40/day. Please contact prescottvalleycommunitymarket@gmail.com for vendor inquiries and more information. \nSpring Prescott Valley Community Market Dates:\nSunday from 10:00AM – 3:00PM \n\nApril 7th\nApril 14th\nApril 21st\nApril 28th\nMay 5th\nMay 12th\nMay 19th
URL:https://fainsignaturegroup.com/event/prescott-valley-community-market-7/
LOCATION:Prescott Valley Town Center\, 3001 N Main St\, Prescott Valley\, AZ\, 86314\, United States
CATEGORIES:Prescott Valley Town Center
ATTACH;FMTTYPE=image/jpeg:https://fainsignaturegroup.com/wp-content/uploads/2024/02/Mothers-day-event-greetingretail-Made-with-PosterMyWall.jpg
ORGANIZER;CN="Prescott Valley Community Market":MAILTO:prescottvalleycommunitymarket@gmail.com
END:VEVENT
BEGIN:VEVENT
DTSTART;TZID=America/Phoenix:20240511T130000
DTEND;TZID=America/Phoenix:20240511T130000
DTSTAMP:20260424T182131
CREATED:20240328T184610Z
LAST-MODIFIED:20240328T190100Z
UID:7620-1715432400-1715432400@fainsignaturegroup.com
SUMMARY:Rafter Eleven Cooking Class: Ooh La La\, Corner Bistro Crepes and Salads
DESCRIPTION:Join us on Saturday\, May 11th @ 1 pm for a 4-course cooking class. Each course is demonstrated and served to you\, and comes with an olive oil and balsamic vinegar pairing and wine tasting. \nMENU \nSalad Nicoise\nOlive Oil Crepes with Carmelized Onions and Spinach\nSavory Asparagus Prosciutto Crepes\nLemon and Lavender Crepes\nBe sure to register to save your space as classes fill quickly! Call 928-227-2050. \nCancellation Policy: \nAll classes are non-refundable. \nThank you for your understanding.
URL:https://fainsignaturegroup.com/event/rafter-eleven-cooking-class-ooh-la-la-corner-bistro-crepes-and-salads/
LOCATION:Rafter Eleven\, 2985 Centre Ct\, Suite B\, Prescott Valley\, AZ\, 86314\, United States
CATEGORIES:Prescott Valley Town Center,Tenant Events
ATTACH;FMTTYPE=image/webp:https://fainsignaturegroup.com/wp-content/uploads/2024/03/Ooh-La-La-Corner-Bistro-Crepes-and-Salads-576x1024-1.webp
ORGANIZER;CN="Rafter Eleven":MAILTO:info@raftereleven.com
END:VEVENT
BEGIN:VEVENT
DTSTART;TZID=America/Phoenix:20240505T100000
DTEND;TZID=America/Phoenix:20240505T150000
DTSTAMP:20260424T182131
CREATED:20240215T231229Z
LAST-MODIFIED:20240419T181400Z
UID:7416-1714903200-1714921200@fainsignaturegroup.com
SUMMARY:Prescott Valley Community Market
DESCRIPTION:The Prescott Valley Community Market comes to life through the local small business merchants that are presented every Sunday from 10:00AM – 3:00PM in the Prescott Valley Town Center in front of Harkins Theatres. The community event is FREE to the public. \nVendor spaces start at $25/day for a 10 x 10 space. You can share a space with a friend for $35/day. Food truck spaces are $40/day. Please contact prescottvalleycommunitymarket@gmail.com for vendor inquiries and more information. \nSpring Prescott Valley Community Market Dates:\nSunday from 10:00AM – 3:00PM \n\nApril 7th\nApril 14th\nApril 21st\nApril 28th\nMay 5th\nMay 12th\nMay 19th
URL:https://fainsignaturegroup.com/event/prescott-valley-community-market-6/
LOCATION:Prescott Valley Town Center\, 3001 N Main St\, Prescott Valley\, AZ\, 86314\, United States
CATEGORIES:Prescott Valley Town Center
ATTACH;FMTTYPE=image/jpeg:https://fainsignaturegroup.com/wp-content/uploads/2024/02/Cinco-De-Mayo-instagram-templete-2-Made-with-PosterMyWall.jpg
ORGANIZER;CN="Prescott Valley Community Market":MAILTO:prescottvalleycommunitymarket@gmail.com
END:VEVENT
BEGIN:VEVENT
DTSTART;TZID=America/Phoenix:20240504T113000
DTEND;TZID=America/Phoenix:20240504T113000
DTSTAMP:20260424T182131
CREATED:20240119T211835Z
LAST-MODIFIED:20240425T182732Z
UID:6981-1714822200-1714822200@fainsignaturegroup.com
SUMMARY:Kentucky Derby Watch Party
DESCRIPTION:  \nCome to the Prescott Valley Town Center’s Turf Park for the official watch party of the Kentucky Derby Race on Saturday\, May 4th from 11:30AM to 5:00PM. \nEnjoy a beer garden\, food\, lawn games\, hat vendors\, and the renowned horse race with friends! This event is presented by the Fain Family Foundation. \nBYOL: Bring your own lawn chair! \n  \nYou can download an event flyer to hang at your business location if you would like below. \nDOWNLOAD FLYER HERE \n \n  \nThank you to our partners and sponsors of this event!\n  \n \n \n \n \n  \n \n  \n \n \n\n\n  \nOur Presenting Sponsor\nThe Fain Family Foundation is a philanthropic organization deeply rooted in our history of always giving back and taking care of others. From gifts of land to create a town\, to regional events\, the Fain Family Foundation focuses on community needs and making a great life for all.
URL:https://fainsignaturegroup.com/event/kentucky-derby-watch-party/
LOCATION:Town Center Turf Park\, 2980 N Park Ave\, Prescott Valley\, AZ\, 86314\, United States
CATEGORIES:Prescott Valley Town Center
ATTACH;FMTTYPE=image/jpeg:https://fainsignaturegroup.com/wp-content/uploads/2024/01/SignalsAZ_2024KentuckyDerbyWatchParty_1024x576ArticleGraphic-scaled.jpg
ORGANIZER;CN="Fain Signature Group":MAILTO:PVTCevents@gmail.com
END:VEVENT
BEGIN:VEVENT
DTSTART;TZID=America/Phoenix:20240502T190000
DTEND;TZID=America/Phoenix:20240502T210000
DTSTAMP:20260424T182131
CREATED:20240410T154716Z
LAST-MODIFIED:20240410T165906Z
UID:7724-1714676400-1714683600@fainsignaturegroup.com
SUMMARY:Live Music at Buffalo Wild Wings
DESCRIPTION:Buffalo Wild Wings presents live music with Sky Daddy in May. Join BWW’s on May 2nd\, May 16th\, and May 30th from 7PM-9PM to enjoy dinner with a show! Buffalo Wild Wings is located in the Prescott Valley Town Center at 2985 Centre Ct\, Prescott Valley\, AZ.
URL:https://fainsignaturegroup.com/event/live-music-at-buffalo-wild-wings/
LOCATION:Buffalo Wild Wings\, 2985 Centre Ct\, Prescott Valley\, AZ\, 86314\, United States
CATEGORIES:Prescott Valley Town Center,Tenant Events
ATTACH;FMTTYPE=image/png:https://fainsignaturegroup.com/wp-content/uploads/2024/04/Spring-2024-Live-Music-in-PV-Sky-Daddy-Flyer-2.png
ORGANIZER;CN="Buffalo Wild Wings":MAILTO:prescott@lancasterwings.com
END:VEVENT
BEGIN:VEVENT
DTSTART;TZID=America/Phoenix:20240428T100000
DTEND;TZID=America/Phoenix:20240428T150000
DTSTAMP:20260424T182131
CREATED:20240215T230748Z
LAST-MODIFIED:20240215T230935Z
UID:7410-1714298400-1714316400@fainsignaturegroup.com
SUMMARY:Prescott Valley Community Market
DESCRIPTION:The Prescott Valley Community Market comes to life through the local small business merchants that are presented every Sunday from 10:00AM – 3:00PM in the Prescott Valley Town Center in front of Harkins Theatres. The community event is FREE to the public. \nVendor spaces start at $25/day for a 10 x 10 space. You can share a space with a friend for $35/day. Food truck spaces are $40/day. Please contact prescottvalleycommunitymarket@gmail.com for vendor inquiries and more information. \nSpring Prescott Valley Community Market Dates:\nSunday from 10:00AM – 3:00PM \n\nApril 7th\nApril 14th\nApril 21st\nApril 28th\nMay 5th\nMay 12th\nMay 19th
URL:https://fainsignaturegroup.com/event/prescott-valley-community-market-4/
LOCATION:Prescott Valley Town Center\, 3001 N Main St\, Prescott Valley\, AZ\, 86314\, United States
CATEGORIES:Prescott Valley Town Center
ATTACH;FMTTYPE=image/jpeg:https://fainsignaturegroup.com/wp-content/uploads/2024/02/spring-sale-creative-instagram-post-banner-Made-with-PosterMyWall-1-1.jpg
ORGANIZER;CN="Prescott Valley Community Market":MAILTO:prescottvalleycommunitymarket@gmail.com
END:VEVENT
BEGIN:VEVENT
DTSTART;TZID=America/Phoenix:20240422T110000
DTEND;TZID=America/Phoenix:20240422T170000
DTSTAMP:20260424T182131
CREATED:20240119T191713Z
LAST-MODIFIED:20240415T160048Z
UID:6964-1713783600-1713805200@fainsignaturegroup.com
SUMMARY:Earth Day Celebration
DESCRIPTION:  \nJoin us in celebrating Earth Day on April 22nd from 11:00AM – 5:00PM with an event that includes planting classes\, upcycling\, recycling\, crafts\, music and more in the Prescott Valley Town Center! \nWatter’s Garden Center will be hosting a vegetable & herb planting class. Learn about proper gardening care and take home a vegetable or herb of your own. Bring the kids to make crafts! \nAlso\, bring any gently used women’s clothing to donate to Queen Esther’s Closet and purchase secondhand clothing from Queen Esther’s and Cosmopolitan Salon. \nBring along any recyclables you have and toss them in a Patriot Disposal bin at the entrance. \n  \nYou can download an event flyer to hang at your business location if you would like below. \nDOWNLOAD FLYER HERE \n \n  \nThank you to our partners and sponsors of this event!\n  \n       \n \n  \nOur Presenting Sponsor\nThe Fain Family Foundation is a philanthropic organization deeply rooted in our history of always giving back and taking care of others. From gifts of land to create a town\, to regional events\, the Fain Family Foundation focuses on community needs and making a great life for all.
URL:https://fainsignaturegroup.com/event/earth-day/
LOCATION:Town Center Turf Park\, 2980 N Park Ave\, Prescott Valley\, AZ\, 86314\, United States
CATEGORIES:Prescott Valley Town Center
ATTACH;FMTTYPE=image/png:https://fainsignaturegroup.com/wp-content/uploads/2024/01/Earth-Day-Square.png
ORGANIZER;CN="Fain Signature Group":MAILTO:PVTCevents@gmail.com
END:VEVENT
BEGIN:VEVENT
DTSTART;TZID=America/Phoenix:20240421T100000
DTEND;TZID=America/Phoenix:20240421T150000
DTSTAMP:20260424T182131
CREATED:20240215T231103Z
LAST-MODIFIED:20240215T231103Z
UID:7414-1713693600-1713711600@fainsignaturegroup.com
SUMMARY:Prescott Valley Community Market
DESCRIPTION:The Prescott Valley Community Market comes to life through the local small business merchants that are presented every Sunday from 10:00AM – 3:00PM in the Prescott Valley Town Center in front of Harkins Theatres. The community event is FREE to the public. \nVendor spaces start at $25/day for a 10 x 10 space. You can share a space with a friend for $35/day. Food truck spaces are $40/day. Please contact prescottvalleycommunitymarket@gmail.com for vendor inquiries and more information. \nSpring Prescott Valley Community Market Dates:\nSunday from 10:00AM – 3:00PM \n\nApril 7th\nApril 14th\nApril 21st\nApril 28th\nMay 5th\nMay 12th\nMay 19th
URL:https://fainsignaturegroup.com/event/prescott-valley-community-market-5/
LOCATION:Prescott Valley Town Center\, 3001 N Main St\, Prescott Valley\, AZ\, 86314\, United States
CATEGORIES:Prescott Valley Town Center
ATTACH;FMTTYPE=image/jpeg:https://fainsignaturegroup.com/wp-content/uploads/2024/02/12-Spring-Made-with-PosterMyWall-1.jpg
ORGANIZER;CN="Prescott Valley Community Market":MAILTO:prescottvalleycommunitymarket@gmail.com
END:VEVENT
BEGIN:VEVENT
DTSTART;TZID=America/Phoenix:20240414T100000
DTEND;TZID=America/Phoenix:20240414T150000
DTSTAMP:20260424T182131
CREATED:20240215T230642Z
LAST-MODIFIED:20240215T230642Z
UID:7407-1713088800-1713106800@fainsignaturegroup.com
SUMMARY:Prescott Valley Community Market
DESCRIPTION:The Prescott Valley Community Market comes to life through the local small business merchants that are presented every Sunday from 10:00AM – 3:00PM in the Prescott Valley Town Center in front of Harkins Theatres. The community event is FREE to the public. \nVendor spaces start at $25/day for a 10 x 10 space. You can share a space with a friend for $35/day. Food truck spaces are $40/day. Please contact prescottvalleycommunitymarket@gmail.com for vendor inquiries and more information. \nSpring Prescott Valley Community Market Dates:\nSunday from 10:00AM – 3:00PM \n\nApril 7th\nApril 14th\nApril 21st\nApril 28th\nMay 5th\nMay 12th\nMay 19th
URL:https://fainsignaturegroup.com/event/prescott-valley-community-market-3/
LOCATION:Prescott Valley Town Center\, 3001 N Main St\, Prescott Valley\, AZ\, 86314\, United States
CATEGORIES:Prescott Valley Town Center
ATTACH;FMTTYPE=image/jpeg:https://fainsignaturegroup.com/wp-content/uploads/2024/02/spring-hello-spring-spring-sale-Made-with-PosterMyWall-1.jpg
ORGANIZER;CN="Prescott Valley Community Market":MAILTO:prescottvalleycommunitymarket@gmail.com
END:VEVENT
BEGIN:VEVENT
DTSTART;TZID=America/Phoenix:20240407T100000
DTEND;TZID=America/Phoenix:20240407T150000
DTSTAMP:20260424T182131
CREATED:20240212T225402Z
LAST-MODIFIED:20240215T230125Z
UID:7363-1712484000-1712502000@fainsignaturegroup.com
SUMMARY:Prescott Valley Community Market
DESCRIPTION:The Prescott Valley Community Market comes to life through the local small business merchants that are presented every Sunday from 10:00AM – 3:00PM in the Prescott Valley Town Center. The artisan and makers market will resume regularly for the Spring 2024 on April 7th\, 2024. \n \nApplications will be accepted starting on February 15\, 2024 for vendors. Vendor spaces start at $25/day for a 10 x 10 space. You can share a space with a friend for $35/day. Food truck spaces are $40/day. Please contact prescottvalleycommunitymarket@gmail.com for vendor inquiries and more information. \nSpring Prescott Valley Community Market Dates:\nSunday from 10:00AM – 3:00PM \n\nApril 7th\nApril 14th\nApril 21st\nApril 28th\nMay 5th\nMay 12th\nMay 19th
URL:https://fainsignaturegroup.com/event/prescott-valley-community-market/
LOCATION:Prescott Valley Town Center\, 3001 N Main St\, Prescott Valley\, AZ\, 86314\, United States
CATEGORIES:Prescott Valley Town Center
ATTACH;FMTTYPE=image/jpeg:https://fainsignaturegroup.com/wp-content/uploads/2024/02/Spring-Fling-Event-Instagram-Post-Made-with-PosterMyWall.jpg
ORGANIZER;CN="Prescott Valley Community Market":MAILTO:prescottvalleycommunitymarket@gmail.com
END:VEVENT
BEGIN:VEVENT
DTSTART;TZID=America/Phoenix:20240406T130000
DTEND;TZID=America/Phoenix:20240406T130000
DTSTAMP:20260424T182131
CREATED:20240328T184320Z
LAST-MODIFIED:20240328T190109Z
UID:7615-1712408400-1712408400@fainsignaturegroup.com
SUMMARY:Rafter Eleven Cooking Class: Charleston Eats
DESCRIPTION:Join us on Saturday\, April 6th @ 1 pm for a 4-course cooking class. \nEach course is demonstrated and served to you and comes with an olive oil and balsamic vinegar pairing and wine tasting. Come and learn how to prepare some of the delicious Southern Specialties Charleston is known for. \nMENU \n\nPimento Cheese (Southern Caviar) with Cheese Straws\nShe Crab Soup\nLow Country Shrimp and Grits\nHuguenot Torte\n\nBe sure to register to save your space as classes fill quickly! Call 928-227-2050. \nCancellation Policy: \nAll classes are non-refundable. \nThank you for your understanding.
URL:https://fainsignaturegroup.com/event/rafter-eleven-cooking-class-charleston-eats/
LOCATION:Rafter Eleven\, 2985 Centre Ct\, Suite B\, Prescott Valley\, AZ\, 86314\, United States
CATEGORIES:Prescott Valley Town Center,Tenant Events
ATTACH;FMTTYPE=image/webp:https://fainsignaturegroup.com/wp-content/uploads/2024/03/Charleston-Eats.webp
ORGANIZER;CN="Rafter Eleven":MAILTO:info@raftereleven.com
END:VEVENT
BEGIN:VEVENT
DTSTART;TZID=America/Phoenix:20240403T170000
DTEND;TZID=America/Phoenix:20240403T190000
DTSTAMP:20260424T182131
CREATED:20240320T225703Z
LAST-MODIFIED:20240328T190245Z
UID:7579-1712163600-1712170800@fainsignaturegroup.com
SUMMARY:Easter Kid's Night
DESCRIPTION:Head over to Prescott Valley Buffalo Wild Wings for an epic Easter Kid’s night. From 5PM-7PM on Wednesday\, April 3rd on the patio\, Hank the Buffalo will be hiding Easter eggs to find. Bring your Easter egg basket to fill up. One GOLDEN Easter Egg will be filled with a super special surprise!
URL:https://fainsignaturegroup.com/event/easter-kids-night/
LOCATION:Buffalo Wild Wings\, 2985 Centre Ct\, Prescott Valley\, AZ\, 86314\, United States
CATEGORIES:Prescott Valley Town Center,Tenant Events
ATTACH;FMTTYPE=application/pdf:https://fainsignaturegroup.com/wp-content/uploads/2024/03/PV-Easter-Fun-Flyer-1.pdf
ORGANIZER;CN="Buffalo Wild Wings":MAILTO:prescott@lancasterwings.com
END:VEVENT
BEGIN:VEVENT
DTSTART;VALUE=DATE:20240329
DTEND;VALUE=DATE:20240401
DTSTAMP:20260424T182131
CREATED:20240328T175600Z
LAST-MODIFIED:20240328T233440Z
UID:7610-1711670400-1711929599@fainsignaturegroup.com
SUMMARY:Easter Egg-stravaganza at IN THE GAME
DESCRIPTION:  \nPick an Egg from the Easter Basket and WIN! A prize in every egg: Win up to a $50 Play Card! Try your luck March 29th – 31st! \nCome and pick your Lucky Egg all Easter weekend long! Every egg is a winner\, and one ✨very lucky egg✨ contains a $50 Play Card! One entry per guest age 12 and under per day – will your family be our lucky grand prize winner?! \nNo purchase is necessary to participate. $50 grand prize may not be drawn.
URL:https://fainsignaturegroup.com/event/easter-egg-stravaganza-at-in-the-game/
LOCATION:IN THE GAME\, 2992 Park Ave\, Prescott Valley\, AZ\, 86314\, United States
CATEGORIES:Prescott Valley Town Center,Tenant Events
ATTACH;FMTTYPE=image/webp:https://fainsignaturegroup.com/wp-content/uploads/2024/03/2024-Easter-Eggstravaganza-at-In-The-game-1536x864-1.webp
ORGANIZER;CN="IN THE GAME":MAILTO:prescottvalley@inthegame.net
END:VEVENT
BEGIN:VEVENT
DTSTART;TZID=America/Phoenix:20240324T100000
DTEND;TZID=America/Phoenix:20240324T130000
DTSTAMP:20260424T182131
CREATED:20240215T230419Z
LAST-MODIFIED:20240228T165447Z
UID:7402-1711274400-1711285200@fainsignaturegroup.com
SUMMARY:Prescott Valley Community Market
DESCRIPTION:The Prescott Valley Community Market comes to life through the local small business merchants that are presented every Sunday from 10:00AM – 3:00PM in the Prescott Valley Town Center in front of Harkins Theatres. \nThe first soft launch of the event will commence on March 24th. The artisan and makers market will resume regularly for the Spring 2024 on April 7th\, 2024. \nApplications will be accepted starting on February 15\, 2024 for vendors. Vendor spaces start at $25/day for a 10 x 10 space. You can share a space with a friend for $35/day. Food truck spaces are $40/day. Please contact prescottvalleycommunitymarket@gmail.com for vendor inquiries and more information. \nSpring Prescott Valley Community Market Dates:\nSunday from 10:00AM – 3:00PM \n\nApril 7th\nApril 14th\nApril 21st\nApril 28th\nMay 5th\nMay 12th\nMay 19th
URL:https://fainsignaturegroup.com/event/prescott-valley-community-market-2/
LOCATION:Prescott Valley Town Center\, 3001 N Main St\, Prescott Valley\, AZ\, 86314\, United States
CATEGORIES:Prescott Valley Town Center
ATTACH;FMTTYPE=image/jpeg:https://fainsignaturegroup.com/wp-content/uploads/2024/02/Pink-Womens-Vendor-Pop-Up-Shop-Instagram-Post-Made-with-PosterMyWall-1-1.jpg
ORGANIZER;CN="Prescott Valley Community Market":MAILTO:prescottvalleycommunitymarket@gmail.com
END:VEVENT
BEGIN:VEVENT
DTSTART;TZID=America/Phoenix:20240310T110000
DTEND;TZID=America/Phoenix:20240310T150000
DTSTAMP:20260424T182131
CREATED:20240119T200531Z
LAST-MODIFIED:20240213T171142Z
UID:6959-1710068400-1710082800@fainsignaturegroup.com
SUMMARY:Save Lives\, Not Daylight Blood Drive
DESCRIPTION:  \nFain Signature Group and Vitalant Blood Donation will be hosting a Blood Drive on Daylight Savings! We are also partnering with Prescott Area Shelter services for a blanket drive during the event. The donation event will be March 10\, 2024 from 11:00AM- 3:00PM. \n  \nCome “Save Lives\, Not Daylight” and donate blood and blankets. Bring your new or gently used blankets to the Town Center and drop it in one of our bins near the mobile donation truck when you arrive. Blanket donations will go to Prescott Area Shelter Services. \n  \nYou can download a event flyer to hang at your business location if you would like below. \nDOWNLOAD FLYER HERE \n \nThis event is presented by the Fain Family Foundation. \n  \nAbout the Fain Family Foundation\n  \nThe Fain Family Foundation is a philanthropic organization deeply rooted in our history of always giving back and taking care of others. From gifts of land to create a town\, to regional events\, the Fain Family Foundation focuses on community needs and making a great life for all.
URL:https://fainsignaturegroup.com/event/save-lives-not-daylight-blood-drive/
LOCATION:Prescott Valley Town Center\, 3001 N Main St\, Prescott Valley\, AZ\, 86314\, United States
CATEGORIES:Prescott Valley Town Center
ATTACH;FMTTYPE=image/jpeg:https://fainsignaturegroup.com/wp-content/uploads/2024/01/Twitter_Donors-Needed_Staff-vitalant.jpg
ORGANIZER;CN="Fain Signature Group":MAILTO:PVTCevents@gmail.com
END:VEVENT
END:VCALENDAR