BEGIN:VCALENDAR
VERSION:2.0
PRODID:-//Fain Signature Group - ECPv6.15.16//NONSGML v1.0//EN
CALSCALE:GREGORIAN
METHOD:PUBLISH
X-ORIGINAL-URL:https://fainsignaturegroup.com
X-WR-CALDESC:Events for Fain Signature Group
REFRESH-INTERVAL;VALUE=DURATION:PT1H
X-Robots-Tag:noindex
X-PUBLISHED-TTL:PT1H
BEGIN:VTIMEZONE
TZID:America/Phoenix
BEGIN:STANDARD
TZOFFSETFROM:-0700
TZOFFSETTO:-0700
TZNAME:MST
DTSTART:20240101T000000
END:STANDARD
END:VTIMEZONE
BEGIN:VEVENT
DTSTART;TZID=America/Phoenix:20251108T110000
DTEND;TZID=America/Phoenix:20251108T210000
DTSTAMP:20260419T191854
CREATED:20250924T182422Z
LAST-MODIFIED:20251023T224638Z
UID:9053-1762599600-1762635600@fainsignaturegroup.com
SUMMARY:Chili Cookoff - Cancelled
DESCRIPTION:This event has been canceled.\nGet ready for a sizzling good time! The Fain Family Foundation is pleased to announce a Chili Cookoff! There will be live music\, a chili cook-off where you can show off your best recipe\, plus local vendors and plenty of drinks to keep the fun going.
URL:https://fainsignaturegroup.com/event/chili-cookoff/
LOCATION:Prescott Valley Town Center\, 3001 N Main St\, Prescott Valley\, AZ\, 86314\, United States
CATEGORIES:Prescott Valley Town Center
ATTACH;FMTTYPE=image/jpeg:https://fainsignaturegroup.com/wp-content/uploads/2025/09/SignalsAZ_2025ChiliCookOffFeatureGraphic.jpg
ORGANIZER;CN="Fain Signature Group":MAILTO:PVTCevents@gmail.com
END:VEVENT
BEGIN:VEVENT
DTSTART;TZID=America/Phoenix:20251108T130000
DTEND;TZID=America/Phoenix:20251108T150000
DTSTAMP:20260419T191854
CREATED:20250124T135514Z
LAST-MODIFIED:20251023T212612Z
UID:8517-1762606800-1762614000@fainsignaturegroup.com
SUMMARY:Cooking Classes at Rafter Eleven
DESCRIPTION:Prescott Valley’s Rafter Eleven is excited to share upcoming cooking classes for all palates!  To reserve your seat at the chef’s table\, please call Rafter Eleven at: (928) 227-2050 \n \n \nRafter Eleven is located at https://maps.app.goo.gl/5tSHQEwCMifApzSS9
URL:https://fainsignaturegroup.com/event/cooking-classes-at-rafter-eleven/
LOCATION:Rafter Eleven\, 2985 Centre Ct\, Suite B\, Prescott Valley\, AZ\, 86314\, United States
CATEGORIES:Prescott Valley Town Center,Tenant Events
ATTACH;FMTTYPE=image/png:https://fainsignaturegroup.com/wp-content/uploads/2025/01/Cooking-Classes-Rafter-Eleven-Prescott-Valley-1.png
ORGANIZER;CN="Rafter Eleven":MAILTO:info@raftereleven.com
END:VEVENT
END:VCALENDAR